BEGIN:VCALENDAR
VERSION:2.0
PRODID:-//wp-events-plugin.com//7.2.3.1//EN
TZID:Europe/Berlin
X-WR-TIMEZONE:Europe/Berlin
BEGIN:VEVENT
UID:16916@arsmondo-online.de
DTSTART;TZID=Europe/Berlin:20260424T200000
DTEND;TZID=Europe/Berlin:20260424T200000
DTSTAMP:20251215T211701Z
URL:https://www.arsmondo-online.de/kulturtermine/konzert-des-swr-symphonie
 orchesters-64/
SUMMARY:Konzert des SWR Symphonieorchesters
DESCRIPTION:Orchesterkonzert mit Werken von Jean Sibelius und Anton Bruckne
 r. Mit Inmo Yang (Violine) und dem SWR Symphonieorchester unter der Leitun
 g von Eva Ollikainen\n\n&nbsp\;\n\nProgramm:\n\nJean Sibelius: Violinkonze
 rt d-Moll op. 47\n\nAnton Bruckner: Sinfonie Nr. 4 Es-Dur ("Romantische")\
 n\n&nbsp\;\n\nMitwirkende:\n\nInmo Yang\, Violine\nSWR Symphonieorchester\
 nEva Ollikainen\, Dirigentin\n\n&nbsp\;\n\n19:00 Uhr Konzerteinführung\n\
 n&nbsp\;\n\nFoto: Eva Ollikainen © Nikolaj Lund
ATTACH;FMTTYPE=image/jpeg:https://www.arsmondo-online.de/wp-content/upload
 s/2025/12/26-04-24-Eva-Ollikainen-C-Nikolaj-Lund_700.jpg
CATEGORIES:Konzert
LOCATION:Liederhalle\, Berliner Platz 1\, Stuttgart\, 70174\, Deutschland
X-APPLE-STRUCTURED-LOCATION;VALUE=URI;X-ADDRESS=Berliner Platz 1\, Stuttgar
 t\, 70174\, Deutschland;X-APPLE-RADIUS=100;X-TITLE=Liederhalle:geo:0,0
END:VEVENT
BEGIN:VTIMEZONE
TZID:Europe/Berlin
X-LIC-LOCATION:Europe/Berlin
BEGIN:DAYLIGHT
DTSTART:20260329T030000
TZOFFSETFROM:+0100
TZOFFSETTO:+0200
TZNAME:CEST
END:DAYLIGHT
END:VTIMEZONE
END:VCALENDAR