BEGIN:VCALENDAR
VERSION:2.0
PRODID:-//wp-events-plugin.com//7.2.3.1//EN
TZID:Europe/Berlin
X-WR-TIMEZONE:Europe/Berlin
BEGIN:VEVENT
UID:16950@arsmondo-online.de
DTSTART;TZID=Europe/Berlin:20260521T200000
DTEND;TZID=Europe/Berlin:20260521T200000
DTSTAMP:20251215T211828Z
URL:https://www.arsmondo-online.de/kulturtermine/konzert-mit-dem-swr-vokal
 ensemble-8/
SUMMARY:Konzert mit dem SWR Vokalensemble
DESCRIPTION:Chorkonzert mit Werken von Joby Talbot\, Samuel Barber\, Anneli
 es Van Parys\, Eran Dinur\, György Kurtág\, Jay Schwartz und Georgy Svir
 idov. Mit dem SWR Vokalensemble unter der Leitung von Yuval Weinberg\n\n&n
 bsp\;\n\nProgramm:\n\nJoby Talbot: Roncesvalles aus Path of Miracles\n\nSa
 muel Barber: Agnues Dei\n\nAnnelies van Parys: Neues Werk für Chor (Urauf
 führung\, Kompositionsauftrag des SWR)\n\nEran Dinur: Ne'ila\n\nGyörgy K
 urtág: Omaggio a Luigi Nono op. 16\n\nJay Schwartz: Neues Werk für Chor 
 (Uraufführung\, Kompositionsauftrag des SWR)\n\nGeorgy Sviridov: Having B
 eheld a Wondrous Birth aus Hymns and Prayers\n\n&nbsp\;\n\nMitwirkende:\n\
 nSWR Vokalensemble\n\nYuval Weinberg\, Dirigent\n\n&nbsp\;\n\nFoto: SWR Vo
 kalensemble © Lena Semmelroggen
ATTACH;FMTTYPE=image/jpeg:https://www.arsmondo-online.de/wp-content/upload
 s/2025/12/26-05-20-SWR-Vokalensemble-C-Lena-Semmelroggen_700.jpg
CATEGORIES:Konzert
LOCATION:Johanneskirche am Feuersee\, Gutenbergstraße 11\, Stuttgart\, Bad
 en-Württemberg\, 70176\, Deutschland
X-APPLE-STRUCTURED-LOCATION;VALUE=URI;X-ADDRESS=Gutenbergstraße 11\, Stutt
 gart\, Baden-Württemberg\, 70176\, Deutschland;X-APPLE-RADIUS=100;X-TITLE
 =Johanneskirche am Feuersee:geo:0,0
END:VEVENT
BEGIN:VTIMEZONE
TZID:Europe/Berlin
X-LIC-LOCATION:Europe/Berlin
BEGIN:DAYLIGHT
DTSTART:20260329T030000
TZOFFSETFROM:+0100
TZOFFSETTO:+0200
TZNAME:CEST
END:DAYLIGHT
END:VTIMEZONE
END:VCALENDAR