BEGIN:VCALENDAR
VERSION:2.0
PRODID:-//wp-events-plugin.com//7.2.3.1//EN
TZID:Europe/Berlin
X-WR-TIMEZONE:Europe/Berlin
BEGIN:VEVENT
UID:17404@arsmondo-online.de
DTSTART;TZID=Europe/Berlin:20260504T000000
DTEND;TZID=Europe/Berlin:20260504T000000
DTSTAMP:20260219T102103Z
URL:https://www.arsmondo-online.de/kulturtermine/konzert-mit-den-berliner-
 philharmonikern/
SUMMARY:Konzert mit den Berliner Philharmonikern
DESCRIPTION:Werke: Igor Strawinsky: Pulcinella Suite\, Piotr Iljitsch Tscha
 ikowski: Rokoko-Variationen für Violoncello und Orchester\, op. 33\;  Lu
 dwig van Beethoven: Sinfonie Nr. 2 in D-Dur\, op. 36. Gautier Capuçon\, V
 ioloncello\, Kirill Petrenko\, Dirigent.\nKarten und weitere Info: kunstk
 ultur.wuerth.com\n
CATEGORIES:Konzert
LOCATION:Carmen Würth Forum\, Am Forumsplatz 1\, Künzelsau\, Baden-Württ
 emberg\, 74653 \, Heilbronn-Franken\, Deutschland
X-APPLE-STRUCTURED-LOCATION;VALUE=URI;X-ADDRESS=Am Forumsplatz 1\, Künzels
 au\, Baden-Württemberg\, 74653 \, Heilbronn-Franken\, Deutschland;X-APPLE
 -RADIUS=100;X-TITLE=Carmen Würth Forum:geo:0,0
END:VEVENT
BEGIN:VTIMEZONE
TZID:Europe/Berlin
X-LIC-LOCATION:Europe/Berlin
BEGIN:DAYLIGHT
DTSTART:20260329T030000
TZOFFSETFROM:+0100
TZOFFSETTO:+0200
TZNAME:CEST
END:DAYLIGHT
END:VTIMEZONE
END:VCALENDAR