BEGIN:VCALENDAR
VERSION:2.0
PRODID:-//wp-events-plugin.com//7.2.3.1//EN
TZID:Europe/Berlin
X-WR-TIMEZONE:Europe/Berlin
BEGIN:VEVENT
UID:17684@arsmondo-online.de
DTSTART;TZID=Europe/Berlin:20261018T130000
DTEND;TZID=Europe/Berlin:20261018T143000
DTSTAMP:20260307T171403Z
URL:https://www.arsmondo-online.de/kulturtermine/kuratorische-fuehrung-mit
 -kuratorin-marie-theres-pecher-oder-kurator-michael-c-maurer-5/
SUMMARY:Kuratorische Führung mit Kuratorin Marie-Theres Pecher oder Kurato
 r Michael C. Maurer
DESCRIPTION:\n\nKarl Hofer (1878-1955) zählt zu den eigenständigsten Male
 rn der deutschen Moderne. Zwischen Neuer Sachlichkeit und Magischem Realis
 mus entwickelte er eine unverwechselbare Bildsprache. Die Ausstellung zeig
 t über 60 Gemälde\, die die wichtigsten Themen\, die ästhetische Kraft 
 und das ihr zugrunde liegende Menschenbild in Hofers Malerei anhand von Be
 ispielen aus allen Schaffensphasen präsentieren.\n\nDie Kuratorin Marie-T
 heres Pecher oder der Kurator Michael Maurer führen zu ausgewählten Werk
 en des Künstlers\, geben Einblick in die Entstehung der Ausstellung und s
 tellen sich dem Dialog mit dem Publikum.\n\n\n\n\n5 Euro zzgl. Eintritt\nO
 hne Voranmeldung\n\n
CATEGORIES:Kunst
LOCATION:Schloss Achberg\, Achberg 2\, Achberg\, Baden-Württemberg\, 88147
 \, Bodensee-Oberschwaben\, Deutschland
X-APPLE-STRUCTURED-LOCATION;VALUE=URI;X-ADDRESS=Achberg 2\, Achberg\, Baden
 -Württemberg\, 88147\, Bodensee-Oberschwaben\, Deutschland;X-APPLE-RADIUS
 =100;X-TITLE=Schloss Achberg:geo:0,0
END:VEVENT
BEGIN:VTIMEZONE
TZID:Europe/Berlin
X-LIC-LOCATION:Europe/Berlin
BEGIN:DAYLIGHT
DTSTART:20260329T030000
TZOFFSETFROM:+0100
TZOFFSETTO:+0200
TZNAME:CEST
END:DAYLIGHT
END:VTIMEZONE
END:VCALENDAR