BEGIN:VCALENDAR
VERSION:2.0
PRODID:-//wp-events-plugin.com//7.2.3.1//EN
TZID:Europe/Berlin
X-WR-TIMEZONE:Europe/Berlin
BEGIN:VEVENT
UID:18236@arsmondo-online.de
DTSTART;TZID=Europe/Berlin:20260422T190000
DTEND;TZID=Europe/Berlin:20260422T223000
DTSTAMP:20260420T143842Z
URL:https://www.arsmondo-online.de/kulturtermine/la-cenerentola-19/
SUMMARY:La Cenerentola
DESCRIPTION:Komische Oper von Gioachino Rossini\n\nMusikalische Leitung: Le
 vente Török\n\nRegie: Andrea Moses\n\nRossinis Angelina\, sein Aschenput
 tel\, verrichtet in der Familie ihres bankrotten Stiefvaters Sklavenarbeit
 . Wie ein Prinz sie aus dieser prekären Lage herausholt\, ist als Märche
 n weltbekannt. Rossini erzählt die Geschichte von der Überlebenskraft eh
 rlicher Gefühle ohne die bekannten Wunderelemente - bis auf eines: Liebe 
 auf den ersten Blick. Und drumherum der Irrsinn von Aufstiegsträumen und 
 Abstiegsszenarien\, der Rossinis Figuren genauso vor sich her treibt wie d
 ie wahnwitzige Energie seiner Musik.\n\nFoto: Martin Sigmund
ATTACH;FMTTYPE=image/jpeg:https://www.arsmondo-online.de/wp-content/upload
 s/2026/04/Cenerentola-Bild.jpg
CATEGORIES:Oper und Musiktheater
LOCATION:Staatstheater Stuttgart\, Opernhaus\, Oberer Schloßgarten 6\, Stu
 ttgart\, Baden-Württemberg\, 70173 \, Stuttgart\, Deutschland
X-APPLE-STRUCTURED-LOCATION;VALUE=URI;X-ADDRESS=Oberer Schloßgarten 6\, St
 uttgart\, Baden-Württemberg\, 70173 \, Stuttgart\, Deutschland;X-APPLE-RA
 DIUS=100;X-TITLE=Staatstheater Stuttgart\, Opernhaus:geo:0,0
END:VEVENT
BEGIN:VTIMEZONE
TZID:Europe/Berlin
X-LIC-LOCATION:Europe/Berlin
BEGIN:DAYLIGHT
DTSTART:20260329T030000
TZOFFSETFROM:+0100
TZOFFSETTO:+0200
TZNAME:CEST
END:DAYLIGHT
END:VTIMEZONE
END:VCALENDAR