BEGIN:VCALENDAR
VERSION:2.0
PRODID:-//wp-events-plugin.com//7.2.3.1//EN
TZID:Europe/Berlin
X-WR-TIMEZONE:Europe/Berlin
BEGIN:VEVENT
UID:17406@arsmondo-online.de
DTSTART;TZID=Europe/Berlin:20260507T000000
DTEND;TZID=Europe/Berlin:20260507T000000
DTSTAMP:20260219T150640Z
URL:https://www.arsmondo-online.de/kulturtermine/lieben-sie-mozart-2/
SUMMARY:Lieben Sie Mozart
DESCRIPTION:Kammermusik mit der Geigerin Ksenia Dubrovskaya und Gästen. We
 rke von Wolfgang Amadeus Mozart. Sonate für Klavier und Violine in C-Dur\
 , KV 296 Trio für Klavier\, Violine und Violoncello in B-Dur\, KV 502 Qua
 rtett für Klavier\, Violine\, Viola und Violoncello in Es-Dur\, KV 493.\n
 \nWeitere Info &amp\; Karten: kunstkultur.wuerth.com
CATEGORIES:Konzert
LOCATION:Carmen Würth Forum\, Am Forumsplatz 1\, Künzelsau\, Baden-Württ
 emberg\, 74653 \, Heilbronn-Franken\, Deutschland
X-APPLE-STRUCTURED-LOCATION;VALUE=URI;X-ADDRESS=Am Forumsplatz 1\, Künzels
 au\, Baden-Württemberg\, 74653 \, Heilbronn-Franken\, Deutschland;X-APPLE
 -RADIUS=100;X-TITLE=Carmen Würth Forum:geo:0,0
END:VEVENT
BEGIN:VTIMEZONE
TZID:Europe/Berlin
X-LIC-LOCATION:Europe/Berlin
BEGIN:DAYLIGHT
DTSTART:20260329T030000
TZOFFSETFROM:+0100
TZOFFSETTO:+0200
TZNAME:CEST
END:DAYLIGHT
END:VTIMEZONE
END:VCALENDAR