BEGIN:VCALENDAR
VERSION:2.0
PRODID:-//wp-events-plugin.com//7.2.3.1//EN
TZID:Europe/Berlin
X-WR-TIMEZONE:Europe/Berlin
BEGIN:VEVENT
UID:13962@arsmondo-online.de
DTSTART;TZID=Europe/Berlin:20260513T200000
DTEND;TZID=Europe/Berlin:20260513T220000
DTSTAMP:20250814T155015Z
URL:https://www.arsmondo-online.de/kulturtermine/liederabend-mit-vater-soh
 n/
SUMMARY:Liederabend mit Vater &amp\; Sohn
DESCRIPTION:Christoph Prégardien – Tenor\n\nJulian Prégardien – Tenor
 \n\nMichael Gees – Klavier\n\n&nbsp\;\n\nProgramm:\n\nSchubert: Ausgewä
 hlte Lieder\nBritten: 6 Hölderlin-Fragmente op. 61\nKillmayer: 4 Lieder a
 us dem II. Hölderlin-Zyklus\n\n__________________________________________
 _________\n\nEintrittspreis: 10\,- bis 69\,- EUR\n\nFür Studierende im Vo
 rverkauf 50% auf alle Plätze und an der Abendkasse für 10\,-\n\nOnline-B
 estellung direkt über unsere Homepage:\nwww.konzerte-tuebingen.de
CATEGORIES:Konzert
LOCATION:Universität Tübingen\, Neue Aula Festsaal\, Geschwister-Scholl-P
 latz\, Tübingen\, Baden-Württemberg\, 72074\, Neckar-Alb\, Deutschland
X-APPLE-STRUCTURED-LOCATION;VALUE=URI;X-ADDRESS=Geschwister-Scholl-Platz\, 
 Tübingen\, Baden-Württemberg\, 72074\, Neckar-Alb\, Deutschland;X-APPLE-
 RADIUS=100;X-TITLE=Universität Tübingen\, Neue Aula Festsaal:geo:0,0
END:VEVENT
BEGIN:VTIMEZONE
TZID:Europe/Berlin
X-LIC-LOCATION:Europe/Berlin
BEGIN:DAYLIGHT
DTSTART:20260329T030000
TZOFFSETFROM:+0100
TZOFFSETTO:+0200
TZNAME:CEST
END:DAYLIGHT
END:VTIMEZONE
END:VCALENDAR