BEGIN:VCALENDAR
VERSION:2.0
PRODID:-//wp-events-plugin.com//7.2.3.1//EN
TZID:Europe/Berlin
X-WR-TIMEZONE:Europe/Berlin
BEGIN:VEVENT
UID:17407@arsmondo-online.de
DTSTART;TZID=Europe/Berlin:20260516T000000
DTEND;TZID=Europe/Berlin:20260516T000000
DTSTAMP:20260219T151221Z
URL:https://www.arsmondo-online.de/kulturtermine/liedkunst-und-sinfonik/
SUMMARY:Liedkunst und Sinfonik
DESCRIPTION:Franz Schubert Lieder in Bearbeitungen für Singstimme und Orch
 ester sowie Ausschnitte aus Bühnenwerken und Sinfonien. Würth Philharmon
 iker\; Christoph Prégardien\, Tenor\; Julian Prégardien\, Tenor\; Kent N
 agano\, Dirigent.\n\nDieses Konzert widmet sich Franz Schubert in all sein
 en Facetten – von intimen Liedbearbeitungen bis hin zur sinfonischen Wei
 te. In kunstvollen Arrangements von Strauss\, Reger\, Webern und Berlioz e
 ntfalten seine Lieder eine neue klangliche Dimension und lassen die feine 
 Balance zwischen Text und Musik noch eindringlicher wirken.\n\n16. Mai 202
 6\, 17:00 Uhr · Carmen Würth Forum\, Künzelsau\nKarten und weitere Info
 : kunstkultur.wuerth.com
CATEGORIES:Konzert
END:VEVENT
BEGIN:VTIMEZONE
TZID:Europe/Berlin
X-LIC-LOCATION:Europe/Berlin
BEGIN:DAYLIGHT
DTSTART:20260329T030000
TZOFFSETFROM:+0100
TZOFFSETTO:+0200
TZNAME:CEST
END:DAYLIGHT
END:VTIMEZONE
END:VCALENDAR