BEGIN:VCALENDAR
VERSION:2.0
PRODID:-//wp-events-plugin.com//7.2.3.1//EN
TZID:Europe/Berlin
X-WR-TIMEZONE:Europe/Berlin
BEGIN:VEVENT
UID:17700@arsmondo-online.de
DTSTART;TZID=Europe/Berlin:20260703T200000
DTEND;TZID=Europe/Berlin:20260703T220000
DTSTAMP:20260307T171120Z
URL:https://www.arsmondo-online.de/kulturtermine/lucie-horsch-emmy-storms-
 plinio-fernandes-origins/
SUMMARY:Lucie Horsch\, Emmy Storms &amp\; Plínio Fernandes - Origins
DESCRIPTION:Drei außergewöhnliche Künstlerpersönlichkeiten laden zu ein
 er Klangreise durch Jahrhunderte und Kontinent ein: Blockflötenvirtuosin 
 Lucie Horsch\, Geigerin Emmy Storms und Gitarrist Plínio Fernandes verweb
 en in ihrem Programm Folklore\, Klassik und moderne Klangsprache zu einem 
 farbenreichen Bild musikalischer Herkunftsgeschichten. Irische Traditional
 s stehen neben barocken Kostbarkeiten von Jacob van Eyck\, Vivaldis feurig
 e La Follia trifft auf die mitreißenden Duette und Volkstänze Béla Bart
 óks. Dazu gesellen sich serbische Rhythmen\, Igor Strawinskys pointierte 
 Miniaturen sowie Claude Debussys impressionistische Farben und Gabriel Fau
 rés elegante Melodien. Mit Manuel de Fallas Suite populaire espagnole ent
 faltet sich spanische Leidenschaft bevor Astor Piazzollas Tango-Welt und d
 er venezolanische Wirbel El Diablo Suelto das Finale markieren. Virtuosit
 ät\, tänzerische Impulse und stille Momente verbinden sich so zu einem e
 indrucksvollen Konzerterlebnis in der besonderen Atmosphäre des Kreuzgang
 gartens.\n\nBild: Simon Fowler
ATTACH;FMTTYPE=image/jpeg:https://www.arsmondo-online.de/wp-content/upload
 s/2026/03/LucieHorsch_SimonFowler4_komprimiert.jpg
CATEGORIES:Konzert
LOCATION:Kloster Maulbronn Kreuzganggarten\, Klosterhof 5\, Maulbronn\, Bad
 en-Württemberg\, 75433\, Enzkreis\, Deutschland
X-APPLE-STRUCTURED-LOCATION;VALUE=URI;X-ADDRESS=Klosterhof 5\, Maulbronn\, 
 Baden-Württemberg\, 75433\, Enzkreis\, Deutschland;X-APPLE-RADIUS=100;X-T
 ITLE=Kloster Maulbronn Kreuzganggarten:geo:0,0
END:VEVENT
BEGIN:VTIMEZONE
TZID:Europe/Berlin
X-LIC-LOCATION:Europe/Berlin
BEGIN:DAYLIGHT
DTSTART:20260329T030000
TZOFFSETFROM:+0100
TZOFFSETTO:+0200
TZNAME:CEST
END:DAYLIGHT
END:VTIMEZONE
END:VCALENDAR