BEGIN:VCALENDAR
VERSION:2.0
PRODID:-//wp-events-plugin.com//7.2.3.1//EN
TZID:Europe/Berlin
X-WR-TIMEZONE:Europe/Berlin
BEGIN:VEVENT
UID:17713@arsmondo-online.de
DTSTART;TZID=Europe/Berlin:20260927T170000
DTEND;TZID=Europe/Berlin:20260927T194500
DTSTAMP:20260307T171401Z
URL:https://www.arsmondo-online.de/kulturtermine/marie-henriette-reinhold-
 patrick-grahl-manuel-winckhler-benjamin-hartmann-maulbronner-kammerchor-ha
 nnoversche-hofkapelle-paulus/
SUMMARY:Marie Henriette Reinhold\, Patrick Grahl\, Manuel Winckhler\, Benja
 min Hartmann\, Maulbronner Kammerchor  &amp\; Hannoversche Hofkapelle - Pa
 ulus
DESCRIPTION:Seit 2018 hat der Maulbronner Kammerchor unter der Leitung von 
 Benjamin Hartmann gemeinsam mit wechselnden international renommierten Sol
 isten und stets historisch informiert begleitet durch die Hannoversche Hof
 kapelle sämtliche chorsinfonischen Sakralwerke Felix Mendelssohns zur Auf
 führung gebracht. Mit dem Oratorium Paulus kommt in diesem Jahr dieser si
 ebenteilige Maulbronner Mendelssohn-Zyklus zu seinem Abschluss und Höhepu
 nkt.\nNoch lange stand Mendelssohn unter dem Eindruck seiner epochemachend
 en Wiederaufführung von Bachs Matthäuspassion im Jahre 1829. Doch dieser
  entscheidende Zündfunke musste erst noch ein paar Jahre in ihm glimmen\,
  bevor er sich 1832 daran setzte\, ein Oratorium ähnlicher Faktur zu scha
 ffen. Die Bezüge zum großen Vorbild werden in den Chorälen und komplexe
 n Fugen offensichtlich\, dennoch schafft es Mendelssohn auch mit seinem ge
 zielten Einsatz der Instrumentation\, die Komposition im Sinne seiner Zeit
  zu formen. Der Paulus gilt heute nicht zuletzt deshalb als Brückenwerk z
 wischen barocker Tradition und romantischer Erneuerung.\nTheologisch relev
 ant ist das Oratorium bis heute ohnehin. Die sprichwörtliche Wandlung des
  Christenverfolgers Saulus zum Apostel Paulus wird zum packenden psycholog
 ischen Porträt\, während die Bekehrungsszene den zentralen Höhepunkt de
 s Werks bildet. Die Fähigkeit zur Selbstreflexion und die Suche nach der 
 Wahrheit abseits von eingeübten Feindbildern sind Tugenden\, die in unser
 er heutigen Zeit wieder gefragt sind. Friede ist eine Aufgabe\, der wir un
 s alle stellen müssen. Die Zuversicht dazu liegt in der Erkenntnis\, dass
  Gott ein »liebender Vater aller Menschen« sei – ein Plädoyer für Un
 iversalität und Menschlichkeit.\nDie Solostimmen sind auch in diesem Fina
 le exzellent besetzt. Die Sopran- und Alt-Partien übernimmt die Mezzosopr
 anistin Marie Henriette Reinhold. Für die Tenor-Partie ist Patrick Grahl 
 engagiert und die Bass-Rolle singt Manuel Winckhler.\n\nBild: Conrad Schmi
 tz
ATTACH;FMTTYPE=image/jpeg:https://www.arsmondo-online.de/wp-content/upload
 s/2026/03/20230924_Maulbronn_copyrightConradSchmitz_0224_komprimiert-1.jpg
CATEGORIES:Konzert
LOCATION:Klosterkirche\, Klosterhof\, Maulbronn\, Baden-Württemberg\, 7543
 3\, Enzkreis\, Deutschland
X-APPLE-STRUCTURED-LOCATION;VALUE=URI;X-ADDRESS=Klosterhof\, Maulbronn\, Ba
 den-Württemberg\, 75433\, Enzkreis\, Deutschland;X-APPLE-RADIUS=100;X-TIT
 LE=Klosterkirche:geo:0,0
END:VEVENT
BEGIN:VTIMEZONE
TZID:Europe/Berlin
X-LIC-LOCATION:Europe/Berlin
BEGIN:DAYLIGHT
DTSTART:20260329T030000
TZOFFSETFROM:+0100
TZOFFSETTO:+0200
TZNAME:CEST
END:DAYLIGHT
END:VTIMEZONE
END:VCALENDAR