BEGIN:VCALENDAR
VERSION:2.0
PRODID:-//wp-events-plugin.com//7.2.3.1//EN
TZID:Europe/Berlin
X-WR-TIMEZONE:Europe/Berlin
BEGIN:VEVENT
UID:17701@arsmondo-online.de
DTSTART;TZID=Europe/Berlin:20260704T200000
DTEND;TZID=Europe/Berlin:20260704T220000
DTSTAMP:20260307T171128Z
URL:https://www.arsmondo-online.de/kulturtermine/martynas-levickis-goldmun
 d-quartett-sensations/
SUMMARY:Martynas Levickis &amp\; Goldmund Quartett - Sensations
DESCRIPTION:Auch in diesem Konzert im Kreuzganggarten begegnen sich Klangwe
 lten von faszinierender Vielfalt. Der international gefeierte Akkordeonist
  Martynas Levickis trifft auf das vielfach ausgezeichnete Goldmund Quartet
 t – eine ebenso überraschende wie reizvolle Besetzung. Im Zentrum des A
 bends steht das Akkordeon\, das in diesem Jahr vom Deutschen Musikrat zum 
 »Instrument des Jahres« gekürt wurde. Levickis demonstriert dessen Ausd
 rucksreichtum zwischen kammermusikalischer Feinheit und leidenschaftlicher
  Virtuosität. Mozarts poetisches Adagio und Rondo (ursprünglich für Gla
 sharmonika) entfaltet im Arrangement für Akkordeon und Streichquartett ei
 nen schwebenden Zauber\, dem Haydns berühmtes Quartett Der Scherz mit Esp
 rit und Witz gegenübersteht.\nNach der Pause spannt das Programm einen Bo
 gen in das 20. und 21. Jahrhundert: Astor Piazzollas sinnliche Tango Sensa
 tions\, alpine Volksmusik aus der bayerischen Heimat des Goldmund Quartett
 s sowie Werke von Franck Angelis und Gorka Hermosa verbinden folkloristisc
 he Wurzeln mit moderner Klangsprache. Ein sommerlicher Konzertabend voller
  Kontraste – zwischen Klassik und Gegenwart\, Tradition und Innovation\,
  unter freiem Himmel in der einzigartigen Atmosphäre des Klosters Maulbro
 nn.\n\nBild: Stephan Zwickirsch
ATTACH;FMTTYPE=image/jpeg:https://www.arsmondo-online.de/wp-content/upload
 s/2026/03/Martynas-Levickis_photo-by-Stephan-Zwickirsch_0331_komprimiert.j
 pg
CATEGORIES:Konzert
LOCATION:Kloster Maulbronn Kreuzganggarten\, Klosterhof 5\, Maulbronn\, Bad
 en-Württemberg\, 75433\, Enzkreis\, Deutschland
X-APPLE-STRUCTURED-LOCATION;VALUE=URI;X-ADDRESS=Klosterhof 5\, Maulbronn\, 
 Baden-Württemberg\, 75433\, Enzkreis\, Deutschland;X-APPLE-RADIUS=100;X-T
 ITLE=Kloster Maulbronn Kreuzganggarten:geo:0,0
END:VEVENT
BEGIN:VTIMEZONE
TZID:Europe/Berlin
X-LIC-LOCATION:Europe/Berlin
BEGIN:DAYLIGHT
DTSTART:20260329T030000
TZOFFSETFROM:+0100
TZOFFSETTO:+0200
TZNAME:CEST
END:DAYLIGHT
END:VTIMEZONE
END:VCALENDAR