BEGIN:VCALENDAR
VERSION:2.0
PRODID:-//wp-events-plugin.com//7.2.3.1//EN
TZID:Europe/Berlin
X-WR-TIMEZONE:Europe/Berlin
BEGIN:VEVENT
UID:17695@arsmondo-online.de
DTSTART;TZID=Europe/Berlin:20260614T170000
DTEND;TZID=Europe/Berlin:20260614T181500
DTSTAMP:20260307T170953Z
URL:https://www.arsmondo-online.de/kulturtermine/maulbronner-kammerchor-ma
 gie-der-verwandlung/
SUMMARY:Maulbronner Kammerchor - Magie der Verwandlung
DESCRIPTION:Verwandlung geschieht oft leise. Sie beginnt dort\, wo wir bere
 it sind\, anders zu hören\, anders zu denken. »Siehe\, ich mache alles n
 eu«\, heißt es in der Jahreslosung 2026 – ein Satz\, der nicht vom Bru
 ch spricht\, sondern von Hoffnung und Erneuerung. Genau diesem Gedanken fo
 lgt der Maulbronner Kammerchor in seinem A-cappella-Programm. Unter der Le
 itung von Benjamin Hartmann entfaltet sich ein musikalischer Bogen\, der B
 ekanntes und Neues miteinander ins Gespräch bringt. Josef Gabriel Rheinbe
 rgers Morgenlied\, vielen als Inbegriff inniger\, spätromantischer Chormu
 sik vertraut\, wird dabei zum Ruhepol des Programms: eine Musik von Wärme
  und Zuversicht\, die zeigt\, wie Trost klingen kann. Am anderen Ende der 
 Zeitachse steht Lodovico Grossi da Viadana\, ein Komponist des frühen 17.
  Jahrhunderts\, an der Schwelle von Renaissance und Barock. Seine klare\, 
 textnahe Mehrstimmigkeit lässt bereits jene Ausdruckskraft ahnen\, aus de
 r spätere Klangwelten erwachsen.\nZeitgenössische Werke führen diesen G
 edanken weiter. Z. Randall Stroopes The Conversion of Saul erzählt eindri
 nglich von innerer Umkehr\, Sven-David Sandströms Hear my Prayer verwande
 lt vertraute Texte in neue Klangfarben. Musik von Jaakko Mäntyjärvi und 
 Cecilia McDowall öffnet schließlich Räume zwischen Ernst und Leichtigke
 it. »Magie der Verwandlung« ist eine Einladung zum Hören ohne Berührun
 gsangst: ein Konzert\, das zeigt\, wie neue Musik aus dem Vertrauten wäch
 st – und wie Wandel als Chance erfahrbar wird.\n\nBild: Conrad Schmitz
ATTACH;FMTTYPE=image/jpeg:https://www.arsmondo-online.de/wp-content/upload
 s/2026/03/20210711_Maulbronn_copyrightConradSchmitz_0162-Kopie.jpg
CATEGORIES:Konzert
LOCATION:Klosterkirche\, Klosterhof\, Maulbronn\, Baden-Württemberg\, 7543
 3\, Enzkreis\, Deutschland
X-APPLE-STRUCTURED-LOCATION;VALUE=URI;X-ADDRESS=Klosterhof\, Maulbronn\, Ba
 den-Württemberg\, 75433\, Enzkreis\, Deutschland;X-APPLE-RADIUS=100;X-TIT
 LE=Klosterkirche:geo:0,0
END:VEVENT
BEGIN:VTIMEZONE
TZID:Europe/Berlin
X-LIC-LOCATION:Europe/Berlin
BEGIN:DAYLIGHT
DTSTART:20260329T030000
TZOFFSETFROM:+0100
TZOFFSETTO:+0200
TZNAME:CEST
END:DAYLIGHT
END:VTIMEZONE
END:VCALENDAR