BEGIN:VCALENDAR
VERSION:2.0
PRODID:-//wp-events-plugin.com//7.2.3.1//EN
TZID:Europe/Berlin
X-WR-TIMEZONE:Europe/Berlin
BEGIN:VEVENT
UID:17705@arsmondo-online.de
DTSTART;TZID=Europe/Berlin:20260801T100000
DTEND;TZID=Europe/Berlin:20260801T183000
DTSTAMP:20260307T171207Z
URL:https://www.arsmondo-online.de/kulturtermine/maulbronner-kammerchor-wa
 nderkonzert-i/
SUMMARY:Maulbronner Kammerchor - Wanderkonzert I
DESCRIPTION:Die Wanderkonzerte mit dem Maulbronner Kammerchor verbinden Cho
 rmusik auf hohem Niveau mit dem Erleben der einzigartigen Kulturlandschaft
  des Naturparks StrombergHeuchelberg rund um Maulbronn. Zugleich entsteht 
 unterwegs Raum für Begegnungen und persönliche Gespräche zwischen Ausf
 ührenden und Publikum. Der musikalische Auftakt findet an beiden Tagen im
  Kreuzganggarten des Klosters statt. Von dort aus führen unter schiedlich
 e Wanderrouten durch die Umgebung Maulbronns. Entlang des Weges laden Kurz
 konzerte in Kirchen und Höfen zum Innehalten ein. Regelmäßige Rastmögl
 ichkeiten mit Getränken\, Maulbronner Maultaschen als Mittagsverpflegung 
 sowie Kaffee und Kuchen sorgen für Stärkung und Entspan nung\, bevor die
  letzte Etappe der Wanderung Chor und Publi kum schließlich zum musikalis
 chen Abschluss in die Kloster kirche bringt. Bei den Wanderkonzerten sind 
 Getränke\, Mittagessen sowie Kaffee und Kuchen im Preis inbegriffen. Bitt
 e geben Sie bei der Kartenbuchung an\, ob Sie mit Fleisch oder vegetarisch
  essen möchten.\n\nWanderkonzert I\nSamstag\, 1. August\, 10 Uhr bis 18.3
 0 Uhr\nStrecke ca. 16 Kilometer\nKreuzganggarten (Start) – Galluskirche 
 und Kelter\, Freudenstein (Mittagessen) – Heilig-Kreuz-Kirche\, Diefenba
 ch – Schülenswaldhof (Kaffee und Kuchen) – Klosterkirche (Ende)\n\nBi
 ld: Berthold Weidner
ATTACH;FMTTYPE=image/jpeg:https://www.arsmondo-online.de/wp-content/upload
 s/2026/03/07-3031_Wanderkonzerte_c_Berthold-Weidner2_komprimiert.jpg
CATEGORIES:Konzert
LOCATION:Kloster Maulbronn Kreuzganggarten\, Klosterhof 5\, Maulbronn\, Bad
 en-Württemberg\, 75433\, Enzkreis\, Deutschland
X-APPLE-STRUCTURED-LOCATION;VALUE=URI;X-ADDRESS=Klosterhof 5\, Maulbronn\, 
 Baden-Württemberg\, 75433\, Enzkreis\, Deutschland;X-APPLE-RADIUS=100;X-T
 ITLE=Kloster Maulbronn Kreuzganggarten:geo:0,0
END:VEVENT
BEGIN:VTIMEZONE
TZID:Europe/Berlin
X-LIC-LOCATION:Europe/Berlin
BEGIN:DAYLIGHT
DTSTART:20260329T030000
TZOFFSETFROM:+0100
TZOFFSETTO:+0200
TZNAME:CEST
END:DAYLIGHT
END:VTIMEZONE
END:VCALENDAR