BEGIN:VCALENDAR
VERSION:2.0
PRODID:-//wp-events-plugin.com//7.2.3.1//EN
TZID:Europe/Berlin
X-WR-TIMEZONE:Europe/Berlin
BEGIN:VEVENT
UID:10697@arsmondo-online.de
DTSTART;TZID=Europe/Berlin:20260701T193000
DTEND;TZID=Europe/Berlin:20260701T205000
DTSTAMP:20250330T173334Z
URL:https://www.arsmondo-online.de/kulturtermine/mein-schwein-pfeift-mozar
 t-9/
SUMMARY:Mein Schwein pfeift Mozart
DESCRIPTION:Opern-Comedy mit den Sänger*innen des Musiktheaterensembles\nV
 on Proben-Zicken\, Premieren-Panik und dem Pausensekt – Vorhang auf für
  eine humoristische Revue über das vielleicht »schönste Chaos der Welt
 « – die Oper! Ein Abend voller hoher Töne\, tiefer Dramen und noch ti
 eferem Wahnsinn – denn ein Tenor kommt nie zu spät … nur der Rest der
  Welt zu früh!\nNach dem großen Erfolg von »But I like to sing!« sorgt
  Holger Schultze erneut für exzellente Unterhaltung\, bei der die Sänger
 innen und Sänger des Opernensembles von gänzlich ungewohnter Seite zu er
 leben sind.
CATEGORIES:Oper und Musiktheater
LOCATION:Theater und Orchester Heidelberg\, Theaterstraße 10\, Heidelberg\
 , Baden-Württemberg\, 69117\, Rhein-Neckar\, Deutschland
X-APPLE-STRUCTURED-LOCATION;VALUE=URI;X-ADDRESS=Theaterstraße 10\, Heidelb
 erg\, Baden-Württemberg\, 69117\, Rhein-Neckar\, Deutschland;X-APPLE-RADI
 US=100;X-TITLE=Theater und Orchester Heidelberg:geo:0,0
END:VEVENT
BEGIN:VTIMEZONE
TZID:Europe/Berlin
X-LIC-LOCATION:Europe/Berlin
BEGIN:DAYLIGHT
DTSTART:20260329T030000
TZOFFSETFROM:+0100
TZOFFSETTO:+0200
TZNAME:CEST
END:DAYLIGHT
END:VTIMEZONE
END:VCALENDAR