BEGIN:VCALENDAR
VERSION:2.0
PRODID:-//wp-events-plugin.com//7.2.3.1//EN
TZID:Europe/Berlin
X-WR-TIMEZONE:Europe/Berlin
BEGIN:VEVENT
UID:9627@arsmondo-online.de
DTSTART;TZID=Europe/Berlin:20250718T193000
DTEND;TZID=Europe/Berlin:20250718T193000
DTSTAMP:20250202T155009Z
URL:https://www.arsmondo-online.de/kulturtermine/melodien-a-la-carte-seren
 ade-mit-mozart/
SUMMARY:Melodien à la carte: Serenade mit Mozart
DESCRIPTION:Konzert mit 3-Gänge-Festspielmenü\n\nHeidelberger Schlossfest
 spiele\n\nKarten unter 06221 / 5820 000\nWeitere Info: https://www.theater
 heidelberg.de/de/\n\nMozart und Kulinarik: Einen unvergesslichen Abend ver
 spricht »Melodien à la carte« mit klassischer Musik und der Gourmetküc
 he des Spitzenkochs Martin Scharff. Auf der Karte: »Gran Partita«\, Wolf
 gang Amadeus Mozarts Bläserserenade KV 361. Sie ist der Höhepunkt der Se
 renaden\, der musikalischen Abendunterhaltungen des Salzburger Genies. Zus
 ammen mit einem dreigängigen kurpfälzisch-österreichischen Gourmetmenü
  aus der Schlossweinstube im Heidelberger Schloss wird das Erlebnis perfek
 t. Musikalisch wird es dargeboten vom generationenübergreifenden Zusammen
 spiel junger Musiker*innen mit ihren Profikolleg*innen des Philharmonische
 n Orchesters Heidelberg. Und Mozart? Der hätte seine helle Freude daran g
 ehabt!
CATEGORIES:Konzert
LOCATION:Schlosshof\, Schlosshof\, Heidelberg\, Baden-Württemberg\, 69117\
 , Rhein-Neckar\, Deutschland
X-APPLE-STRUCTURED-LOCATION;VALUE=URI;X-ADDRESS=Schlosshof\, Heidelberg\, B
 aden-Württemberg\, 69117\, Rhein-Neckar\, Deutschland;X-APPLE-RADIUS=100;
 X-TITLE=Schlosshof:geo:0,0
END:VEVENT
BEGIN:VTIMEZONE
TZID:Europe/Berlin
X-LIC-LOCATION:Europe/Berlin
BEGIN:DAYLIGHT
DTSTART:20250330T030000
TZOFFSETFROM:+0100
TZOFFSETTO:+0200
TZNAME:CEST
END:DAYLIGHT
END:VTIMEZONE
END:VCALENDAR