BEGIN:VCALENDAR
VERSION:2.0
PRODID:-//wp-events-plugin.com//7.2.3.1//EN
TZID:Europe/Berlin
X-WR-TIMEZONE:Europe/Berlin
BEGIN:VEVENT
UID:18110@arsmondo-online.de
DTSTART;TZID=Europe/Berlin:20260513T150000
DTEND;TZID=Europe/Berlin:20260513T170000
DTSTAMP:20260409T154402Z
URL:https://www.arsmondo-online.de/kulturtermine/mittwochstreff-mehr-lob-b
 itte/
SUMMARY:Mittwochstreff: Mehr Lob\, bitte!
DESCRIPTION:Wie sprechen wir eigentlich miteinander? In diesem Workshop geh
 t es um Lob\, Komplimente und gute Worte – und darum\, wie sie Nähe\, V
 ertrauen und Gemeinschaft schaffen können.\nWir tauschen uns locker aus\,
  lachen\, erzählen und probieren gemeinsam\, was ein ehrliches Lob ausmac
 ht und warum manche Worte besonders guttun.\n\nIm kreativen Teil gestalten
  wir Lob- und Freudekarten mit Stempelbuchstaben\, kleinen LED-Lichtern un
 d anderen spannenden Materialien. Karten für andere – oder als kleine E
 rinnerung für sich selbst.\n\nJeden zweiten Mittwoch im Monat laden wir e
 uch ein\, tolle Leute zu treffen und gemeinsam neue Ideen zu entwickeln. W
 ir trinken zusammen Tee\, reden miteinander und probieren ein spannendes\,
  kreatives Angebot aus – ohne Stress oder Druck. Wer Lust hat\, macht mi
 t oder hilft anderen.\n\nNeugierig geworden? Kommt einfach vorbei!\n\nBild
 credit: ZKM | Zentrum für Kunst und Medien\, Foto: Chiara Bellamoli
ATTACH;FMTTYPE=image/jpeg:https://www.arsmondo-online.de/wp-content/upload
 s/2026/04/20250328_ZKM_Eroffnung_TheVoiceO.jpg
CATEGORIES:Crossover
LOCATION:ZKM | Zentrum für Kunst und Medien\, Lorenzstraße 19\, Karlsruhe
 \, Baden-Württemberg\, 76135\, Mittlerer Oberrhein\, Deutschland
X-APPLE-STRUCTURED-LOCATION;VALUE=URI;X-ADDRESS=Lorenzstraße 19\, Karlsruh
 e\, Baden-Württemberg\, 76135\, Mittlerer Oberrhein\, Deutschland;X-APPLE
 -RADIUS=100;X-TITLE=ZKM | Zentrum für Kunst und Medien:geo:0,0
END:VEVENT
BEGIN:VTIMEZONE
TZID:Europe/Berlin
X-LIC-LOCATION:Europe/Berlin
BEGIN:DAYLIGHT
DTSTART:20260329T030000
TZOFFSETFROM:+0100
TZOFFSETTO:+0200
TZNAME:CEST
END:DAYLIGHT
END:VTIMEZONE
END:VCALENDAR