BEGIN:VCALENDAR
VERSION:2.0
PRODID:-//wp-events-plugin.com//7.2.3.1//EN
TZID:Europe/Berlin
X-WR-TIMEZONE:Europe/Berlin
BEGIN:VEVENT
UID:7369@arsmondo-online.de
DTSTART;TZID=Europe/Berlin;VALUE=DATE:20241130
DTEND;TZID=Europe/Berlin;VALUE=DATE:20241201
DTSTAMP:20240915T202033Z
URL:https://www.arsmondo-online.de/kulturtermine/moderne-gefuehle-fotograf
 ien-von-ingolf-thiel-1975-1985-2024-11-30/
SUMMARY:Moderne Gefühle. Fotografien von Ingolf Thiel 1975–1985
DESCRIPTION:Ausstellung vom 30.11.2024 bis zum 21.04.2025.\n\nUnter dem Tit
 el „Moderne Gefühle“ zeigt die Schau Fotografien der Jahre 1975 bis 1
 985 von Ingolf Thiel. 1943 in Danzig geboren und 1985 in Stuttgart verstor
 ben\, zählte Thiel um 1980 zu den innovativsten Fotografen in Deutschland
 . Die Freude am genreübergreifenden Arbeiten\, die jene Jahre kennzeichne
 t\, trieb auch Thiel beständig an. Mit Neugier und Enthusiasmus probierte
  er verschiedenes aus und machte es für seine fotografische Arbeit nutzba
 r.\n\nIngolf Thiel arbeitete für Industrie- und Modeunternehmen wie Daiml
 er-Benz\, Kodak\, Bleyle\, Breuninger oder Mustang. Seine Fotografien ersc
 hienen in Magazinen wie Elle\, Gala\, Linea Italiana\, Nora und Playboy. P
 arallel dazu und mit zunehmendem Erfolg entstanden immer auch freie Arbeit
 en. Überraschend und faszinierend ist dabei die erstaunliche Konvergenz v
 on Motivkanon\, Ästhetik\, Stilmitteln und Techniken in seinen angewandte
 n und freien Fotografien\, gleichermaßen verdichteter Ausdruck und Reflex
 ion von Zeitgeist.\n\nDie Ausstellung entsteht in Kooperation mit der Deut
 schen Fotothek in der Sächsischen Landesbibliothek – Staats- und Univer
 sitätsbibliothek Dresden (SLUB)\, die seit 2017 den Nachlass des Künstle
 rs verwahrt.\n\nBildnachweis:\nIngolf Thiel\, Skyscraper\, 1979\, Serie: H
 eimweh nach dem Traurigsein. © Deutsche Fotothek / Thiel\, Ingolf
ATTACH;FMTTYPE=image/jpeg:https://www.arsmondo-online.de/wp-content/upload
 s/2024/09/MusPreSchwGmuend_Ingolf-Thiel_Skyscraper_arsmondo-1.jpg
CATEGORIES:Kunst
LOCATION:Museum und Galerie im Prediger\, Johannisplaz 3\, Schwäbisch Gmü
 nd\, Baden-Württemberg\, 73525\, Ostwürttemberg\, Deutschland
X-APPLE-STRUCTURED-LOCATION;VALUE=URI;X-ADDRESS=Johannisplaz 3\, Schwäbisc
 h Gmünd\, Baden-Württemberg\, 73525\, Ostwürttemberg\, Deutschland;X-AP
 PLE-RADIUS=100;X-TITLE=Museum und Galerie im Prediger:geo:0,0
END:VEVENT
BEGIN:VTIMEZONE
TZID:Europe/Berlin
X-LIC-LOCATION:Europe/Berlin
BEGIN:STANDARD
DTSTART:20241027T020000
TZOFFSETFROM:+0200
TZOFFSETTO:+0100
TZNAME:CET
END:STANDARD
END:VTIMEZONE
END:VCALENDAR