BEGIN:VCALENDAR
VERSION:2.0
PRODID:-//wp-events-plugin.com//7.2.3.1//EN
TZID:Europe/Berlin
X-WR-TIMEZONE:Europe/Berlin
BEGIN:VEVENT
UID:12815@arsmondo-online.de
DTSTART;TZID=Europe/Berlin:20260709T193000
DTEND;TZID=Europe/Berlin:20260709T213000
DTSTAMP:20250717T100625Z
URL:https://www.arsmondo-online.de/kulturtermine/moerike-zeitkapsel/
SUMMARY:Mörike-Zeitkapsel
DESCRIPTION:\nChristina Gansch (Sopran)\nStephan Loges (Bariton)\nSholto Ky
 noch (Klavier)\nNatasha Loges (Moderation)\n\n\nLieder und Briefe von Hugo
  Wolf und Pauline Viardot u. a.\n\nBei Mörike-Vertonungen denkt man sofor
 t an Hugo Wolf. Immerhin hat dieser mit seinen 53 Mörike-Liedern wahre Me
 isterwerke hinterlassen. Dass es aber auch von der französischen Komponis
 tin Pauline Viardot ein ganzes Dutzend an fantastischen Mörike-Liedern gi
 bt\,  ist kaum bekannt. Nun kommen diese Mörike-Lieder erstmals als Zykl
 us zur Aufführung\, den die Musikwissenschaftlerin und Viardot-Expertin P
 rof. Dr. Natasha Loges konzipiert hat. In einer Mörike-Zeitkapsel stellt 
 Dr . Gunilla Eschenbach vom DLA Marbach neben Briefen von Pauline Viardot 
 aus der Mörike-Sammlung Berge das frisch erweiterte »Familienarchiv der 
 Musikerfamilien Schmid und Kauffmann« vor\, in dem sich u. a. Handschrift
 en des Tübinger Universitätsmusikdirektors Emil Kauffmann befinden\, der
  sowohl zu Eduard Mörike als auch zu Hugo Wolf ein freundschaftliches Ver
 hältnis pflegte.\n\nDer Vorverkauf für diese Veranstaltung beginnt am 1.
  September 2025.\nWeitere Informationen unter https://www.ihwa.de/event/m
 oerike-zeitkapsel\n\nFoto: Christina Gansch (credit: Michael Obex)
ATTACH;FMTTYPE=image/jpeg:https://www.arsmondo-online.de/wp-content/upload
 s/2025/07/Gansch_Christina_c_Michael-Obex1-min.jpg
CATEGORIES:Konzert
LOCATION:Deutsches Literaturarchiv Marbach\, Humboldt-Saal\, Schillerhöhe 
 8-10\, Marbach\, Baden-Württemberg\, 71672\, Stuttgart\, Deutschland
X-APPLE-STRUCTURED-LOCATION;VALUE=URI;X-ADDRESS=Schillerhöhe 8-10\, Marbac
 h\, Baden-Württemberg\, 71672\, Stuttgart\, Deutschland;X-APPLE-RADIUS=10
 0;X-TITLE=Deutsches Literaturarchiv Marbach\, Humboldt-Saal:geo:0,0
END:VEVENT
BEGIN:VTIMEZONE
TZID:Europe/Berlin
X-LIC-LOCATION:Europe/Berlin
BEGIN:DAYLIGHT
DTSTART:20260329T030000
TZOFFSETFROM:+0100
TZOFFSETTO:+0200
TZNAME:CEST
END:DAYLIGHT
END:VTIMEZONE
END:VCALENDAR