BEGIN:VCALENDAR
VERSION:2.0
PRODID:-//wp-events-plugin.com//7.2.3.1//EN
TZID:Europe/Berlin
X-WR-TIMEZONE:Europe/Berlin
BEGIN:VEVENT
UID:17312@arsmondo-online.de
DTSTART;TZID=Europe/Berlin:20260320T190000
DTEND;TZID=Europe/Berlin:20260325T203000
DTSTAMP:20260214T130726Z
URL:https://www.arsmondo-online.de/kulturtermine/monstrare/
SUMMARY:MONSTRĀRE
DESCRIPTION:Tretet näher\, nur keine Scheu! Willkommen im Zwischenreich\, 
 ihr Verlorenen\, ihr Suchenden\, ihr Mutigen\, die ihr gekommen seid\, um 
 euch ein kleines bisschen zu fürchten.\nMONSTRĀRE verwandelt das Kleine 
 Haus des Theater Freiburg in ein schillerndes Gruselkabinett. Aber keines\
 , in dem das neugierige Publikum nur staunend an den Monstern vorbeischlei
 cht. Hier drängen sich die Monster selbst auf die Bühne\, zeigen sich\, 
 erzählen ihre Geschichten. Wir alle kennen die alten Gestalten\, charisma
 tische oder abstoßende\, allein gelassene oder bedrängte Grenzfiguren de
 r sozialen Ordnung: Frankensteins Monster\, Dracula\, Zombies\, King Kong.
  Sie spiegelten auch immer die Ängste\, Tabus und sozialen (Un-)Gerechtig
 keiten der Gesellschaft wider\, die sie erfand. Aber welche Monster beglei
 ten eigentlich unsere heutige Zeit? Was sind die politischen Gespenster\, 
 die im Alltag rumoren – der Horror der Erfahrung von Ausgrenzung? Der Gr
 usel\, erwachsen zu werden? Das Schaudern vor ökologischen Krisen und ein
 er unsicheren Zukunft?\nDiesen Fragen gehen Freiburger Jugendliche gemeins
 am mit den Regisseurinnen Brandy Butler und Kenza Nessaf nach. Sie laden e
 in zu einer Horrorshow zwischen Glamour\, Grusel und den eigenen Geschicht
 en.\n\n&nbsp\;\n\nEin Monsterstück von und mit Jugendlichen entwickelt vo
 n Brandy Butler und Kenza Nessaf.
CATEGORIES:Theater
LOCATION:Theater Freiburg Kleines Haus\, Bertoldstr. 46\, Freiburg\, Baden-
 Württemberg\, 79104 \, Südlicher Oberrhein\, Deutschland
X-APPLE-STRUCTURED-LOCATION;VALUE=URI;X-ADDRESS=Bertoldstr. 46\, Freiburg\,
  Baden-Württemberg\, 79104 \, Südlicher Oberrhein\, Deutschland;X-APPLE-
 RADIUS=100;X-TITLE=Theater Freiburg Kleines Haus:geo:0,0
END:VEVENT
BEGIN:VTIMEZONE
TZID:Europe/Berlin
X-LIC-LOCATION:Europe/Berlin
BEGIN:STANDARD
DTSTART:20251026T020000
TZOFFSETFROM:+0200
TZOFFSETTO:+0100
TZNAME:CET
END:STANDARD
END:VTIMEZONE
END:VCALENDAR