BEGIN:VCALENDAR
VERSION:2.0
PRODID:-//wp-events-plugin.com//7.2.3.1//EN
TZID:Europe/Berlin
X-WR-TIMEZONE:Europe/Berlin
BEGIN:VEVENT
UID:17539@arsmondo-online.de
DTSTART;TZID=Europe/Berlin:20260530T200000
DTEND;TZID=Europe/Berlin:20260530T221500
DTSTAMP:20260225T190847Z
URL:https://www.arsmondo-online.de/kulturtermine/mr-bond-%e2%94%80-die-hof
 fnung-stirbt-zuletzt-2/
SUMMARY:Mr. Bond ─ Die Hoffnung stirbt zuletzt
DESCRIPTION:Musik-Comedy mit Markus Herzer &amp\; Markus Streubel \n\n\nIn 
 ihrem rasanten Musik-Comedy-Programm »MR. BOND – DIE HOFFNUNG STIRBT ZU
 LETZT« wirbeln der Schauspieler und Sänger Markus Streubel sowie der Pia
 nist Markus Herzer im Salon3 einmal quer durch das Bond-Universum. Augenzw
 inkernd spielen die beiden mit allen Klischees rund um den Geheimagenten 0
 07\, der seit 1962 im Auftrag Ihrer Majestät gegen das Böse kämpft\, un
 d präsentieren dabei ganz nebenbei sämtliche Hits aus 50 Jahren Bond-Fil
 mgeschichte. Wer kennt sie nicht\, die grandiosen und zeitlosen Bond-Titel
 -Songs wie »Skyfall«\, »No Time to Die«\, »You Only Live Twice«\, »
 Goldfinger«\, »Live and Let Die«\, »Golden Eye« oder »Diamonds Are F
 orever«?\n\nWagen Sie sich mit dem erfahrenen Doppel-M-Team für Speziale
 insätze Markus Streubel und Markus Herzer auf musikalische Mission\, lass
 en Sie sich in die ebenso aufregende wie verführerische Welt des Bond-Mys
 teriums entführen und seien Sie hautnah dabei\, wenn der Geheimagent in l
 etzter Sekunde die Welt rettet. Eine humorvolle Hommage\, die nicht nur ei
 ngefleischte 007-Fans auf ihre Kosten kommen lässt!\n\n»Mit der Lizenz z
 ur Unterhaltung!« (Stuttgarter Zeitung)\n»Lässig und durch und durch br
 itisch: Stimmgewaltig\, eindrucksvoll\, mitreißend – ein unvergessliche
 s Ereignis!« (Badische Neueste Nachrichten)\n»Mit Fantasie und Augenzwin
 kern\; humorvolle Show!« (Bergsträßer Anzeiger)\n\nMarkus Streubel ist 
 Schauspieler und Sänger. Engagements führten ihn u. a. an Theater in Stu
 ttgart\, Bremen\, Kassel\, Dortmund und Heidelberg\, wo er u. a. als Berge
 r im Musical »Hair« oder als Riff Raff in »Rocky Horror Show« zu sehen
  war. Auf dem Theaterschiff Heilbronn stand er in Debbie Isitts Komödie 
 »Gatte Gegrillt« auf der Bühne. Darüber hinaus realisiert er als Regis
 seur und Autor auch eigene Projekte.\n\nMarkus Herzer ist Pianist\, Arrang
 eur und Komponist. Arbeiten führten ihn u. a. ans Staatstheater Karlsruhe
  sowie die Theater in Heidelberg und Pforzheim. Am Heilbronner Theater war
  er bisher u. a. stellvertretender musikalischer Leiter beim Musical »Cab
 aret« sowie bei der musikalischen Revue »Born to Be Wild?« von Kai Tiet
 je und Stefan Huber. Aktuell ist er im Salon3 im Ein-Frauen-Musical »Heut
 e Abend: Lola Blau« zu erleben.\n\n\nFOTO: Kalle Kalmbach
ATTACH;FMTTYPE=image/jpeg:https://www.arsmondo-online.de/wp-content/upload
 s/2025/06/Mr-Bond.jpg
CATEGORIES:Crossover
LOCATION:Theater Heilbronn Salon3\, Berliner Platz 12 \, Heilbronn\, Baden-
 Württemberg\, 74072 \, Heilbronn-Franken\, Deutschland
X-APPLE-STRUCTURED-LOCATION;VALUE=URI;X-ADDRESS=Berliner Platz 12 \, Heilbr
 onn\, Baden-Württemberg\, 74072 \, Heilbronn-Franken\, Deutschland;X-APPL
 E-RADIUS=100;X-TITLE=Theater Heilbronn Salon3:geo:0,0
END:VEVENT
BEGIN:VTIMEZONE
TZID:Europe/Berlin
X-LIC-LOCATION:Europe/Berlin
BEGIN:DAYLIGHT
DTSTART:20260329T030000
TZOFFSETFROM:+0100
TZOFFSETTO:+0200
TZNAME:CEST
END:DAYLIGHT
END:VTIMEZONE
END:VCALENDAR