BEGIN:VCALENDAR
VERSION:2.0
PRODID:-//wp-events-plugin.com//7.2.3.1//EN
TZID:Europe/Berlin
X-WR-TIMEZONE:Europe/Berlin
BEGIN:VEVENT
UID:12411@arsmondo-online.de
DTSTART;TZID=Europe/Berlin:20260524T190000
DTEND;TZID=Europe/Berlin:20260524T190000
DTSTAMP:20250626T123958Z
URL:https://www.arsmondo-online.de/kulturtermine/muenchener-kammerorcheste
 r-sebastian-bohren-violine-bodenseefestival-2026/
SUMMARY:Münchener Kammerorchester &amp\; Sebastian Bohren\, Violine - Bode
 nseefestival 2026
DESCRIPTION:Münchener Kammerorchester\nSebastian Bohren Violine\n\nEnrico 
 Onofri Dirigent\n\nJoseph Haydn „Vorstellung des Chaos“ aus „Die Sch
 öpfung“\nRobert Schumann Konzert für Violine und Orchester d-Moll\nLud
 wig van Beethoven Sinfonie Nr. 5\n\nIn der Jubiläumsaison 75 Jahre Münch
 ener Kammerorchester darf ein Konzert im Rahmen des Bodenseefestivals 2026
  nicht fehlen. Dabei wird das MKO von dem italienischen Violinisten Enrico
  Onofri (1967) dirigiert. Er ist seit der Saison 2022/23 einer der drei As
 sociated Conductors des Orchesters. Solist des Abends ist der Schweizer Ge
 iger Sebastian Bohren (1987). Er spielt auf einer Violine von Giovanni Bat
 tista Guadagnini (1711-1786) das Violinkonzert von Robert Schumann\, das d
 ieser 1853 komponiert hatte.\nDoch zu Beginn spielt das MKO Joseph Haydns 
 „Vorstellung des Chaos“ aus dem 1796 bis 1798 entstandenen Oratorium 
 „Die Schöpfung“.\n\nDie c-Moll- Ouvertüre thematisiert das uranfäng
 liche Chaos\, auf das aus biblischer Sicht die Erschaffung des Lichts\, de
 r Erde\, der Himmelskörper\, des Wassers\, des Wetters und der Pflanzen f
 olgt. Ludwig van Beethovens Sinfonie Nr. 5 wird wegen seiner markanten vie
 r Anfangstöne mit dem anklopfenden Schicksal assoziiert. Am 22. Dezember 
 1808 fand die Uraufführung unter der Leitung des Komponisten im Theater a
 n der Wien statt.\n\n&nbsp\;\n\nFoto: © Marco Borggreve
ATTACH;FMTTYPE=image/jpeg:https://www.arsmondo-online.de/wp-content/upload
 s/2025/06/image-29.png
CATEGORIES:Konzert
LOCATION:Konzerthaus Ravensburg\, Wilhelmstraße 3\, Ravensburg\, Baden-Wü
 rttemberg\, 88212\, Deutschland
X-APPLE-STRUCTURED-LOCATION;VALUE=URI;X-ADDRESS=Wilhelmstraße 3\, Ravensbu
 rg\, Baden-Württemberg\, 88212\, Deutschland;X-APPLE-RADIUS=100;X-TITLE=K
 onzerthaus Ravensburg:geo:0,0
END:VEVENT
BEGIN:VTIMEZONE
TZID:Europe/Berlin
X-LIC-LOCATION:Europe/Berlin
BEGIN:DAYLIGHT
DTSTART:20260329T030000
TZOFFSETFROM:+0100
TZOFFSETTO:+0200
TZNAME:CEST
END:DAYLIGHT
END:VTIMEZONE
END:VCALENDAR