BEGIN:VCALENDAR
VERSION:2.0
PRODID:-//wp-events-plugin.com//7.2.3.1//EN
TZID:Europe/Berlin
X-WR-TIMEZONE:Europe/Berlin
BEGIN:VEVENT
UID:17520@arsmondo-online.de
DTSTART;TZID=Europe/Berlin:20260620T000000
DTEND;TZID=Europe/Berlin:20260620T000000
DTSTAMP:20260220T110942Z
URL:https://www.arsmondo-online.de/kulturtermine/musicals-in-concert/
SUMMARY:Musicals in concert
DESCRIPTION:Eine musikalische Reise durch die faszinierende Welt der Musica
 ls. Würth Philharmoniker\; Nazide Aylin\, Gesang\; Drew Sarich\, Gesang\;
  Claudio Vandelli\, Dirigent.\n\nDie Würth Philharmoniker beschließen ih
 re diesjährige Saison mit einem mitreißenden Sommerkonzert auf der groß
 en Bühne des Carmen Würth Forums.  Ergreifende Balladen\, ikonische Mel
 odien\, rockige Songs und zeitlose Höhepunkte aus mehreren Jahrzehnten Mu
 sicalgeschichte.\n\nWeitere Info: Tickets 07940/15 6200\nkunstkultur.wuert
 h.com\n\n(c) 2025 Reinhold Würth Musikstiftung gGmbH /Foto:  Matthias Ba
 us
ATTACH;FMTTYPE=image/jpeg:https://www.arsmondo-online.de/wp-content/upload
 s/2026/02/wuerthphilharmoniker_und_Claudio_Vandelli_CWF___2025_Reinhold_Wu
 erth_Musikstiftung_gGmbH_Fotografie_Matthias_Baus_klerin.jpg
CATEGORIES:Konzert
LOCATION:Carmen Würth Forum\, Am Forumsplatz 1\, Künzelsau\, Baden-Württ
 emberg\, 74653 \, Heilbronn-Franken\, Deutschland
X-APPLE-STRUCTURED-LOCATION;VALUE=URI;X-ADDRESS=Am Forumsplatz 1\, Künzels
 au\, Baden-Württemberg\, 74653 \, Heilbronn-Franken\, Deutschland;X-APPLE
 -RADIUS=100;X-TITLE=Carmen Würth Forum:geo:0,0
END:VEVENT
BEGIN:VTIMEZONE
TZID:Europe/Berlin
X-LIC-LOCATION:Europe/Berlin
BEGIN:DAYLIGHT
DTSTART:20260329T030000
TZOFFSETFROM:+0100
TZOFFSETTO:+0200
TZNAME:CEST
END:DAYLIGHT
END:VTIMEZONE
END:VCALENDAR