BEGIN:VCALENDAR
VERSION:2.0
PRODID:-//wp-events-plugin.com//7.2.3.1//EN
TZID:Europe/Berlin
X-WR-TIMEZONE:Europe/Berlin
BEGIN:VEVENT
UID:18102@arsmondo-online.de
DTSTART;TZID=Europe/Berlin:20260424T150000
DTEND;TZID=Europe/Berlin:20260424T180000
DTSTAMP:20260409T154128Z
URL:https://www.arsmondo-online.de/kulturtermine/open-hertzlab-mars-govern
 ance/
SUMMARY:Open Hertzlab: MARS! Governance
DESCRIPTION:Das Hertzlab fliegt zum Mars!\nWie können Gesellschaften so in
  einer lebensfeindlichen Umgebung wie der des Roten Planeten funktionieren
 ? Schließt euch den Mitgliedern der Red Dust Society und deren Fachberate
 r:innen an\, um dabei zu helfen\, die Gesetze\, Organisationsstrukturen\, 
 Bezeichnungen und Symbole zu entwerfen\, die wir dafür brauchen. Ist die 
 athenische Demokratie\, eine „wohlwollende“ wissenschaftliche Diktatur
  oder Anarchismus die Antwort? Finden wir es heraus.\n\nIhr seid her(t)zli
 ch eingeladen. Kommt einfach vorbei!\n\nTreffpunkt: Lichthof 8\, 1. OG\, Z
 ugang über den Musikbalkon im Foyer\n\nBildcredit: ZKM | Zentrum für Kun
 st und Medien\, Foto: Micha Reinke
ATTACH;FMTTYPE=image/jpeg:https://www.arsmondo-online.de/wp-content/upload
 s/2026/04/micha.reinke_kaumna25-159-3-2.jpg
CATEGORIES:Crossover
LOCATION:ZKM | Zentrum für Kunst und Medien\, Lorenzstraße 19\, Karlsruhe
 \, Baden-Württemberg\, 76135\, Mittlerer Oberrhein\, Deutschland
X-APPLE-STRUCTURED-LOCATION;VALUE=URI;X-ADDRESS=Lorenzstraße 19\, Karlsruh
 e\, Baden-Württemberg\, 76135\, Mittlerer Oberrhein\, Deutschland;X-APPLE
 -RADIUS=100;X-TITLE=ZKM | Zentrum für Kunst und Medien:geo:0,0
END:VEVENT
BEGIN:VTIMEZONE
TZID:Europe/Berlin
X-LIC-LOCATION:Europe/Berlin
BEGIN:DAYLIGHT
DTSTART:20260329T030000
TZOFFSETFROM:+0100
TZOFFSETTO:+0200
TZNAME:CEST
END:DAYLIGHT
END:VTIMEZONE
END:VCALENDAR