BEGIN:VCALENDAR
VERSION:2.0
PRODID:-//wp-events-plugin.com//7.2.3.1//EN
TZID:Europe/Berlin
X-WR-TIMEZONE:Europe/Berlin
BEGIN:VEVENT
UID:18114@arsmondo-online.de
DTSTART;TZID=Europe/Berlin:20260522T150000
DTEND;TZID=Europe/Berlin:20260522T180000
DTSTAMP:20260409T154526Z
URL:https://www.arsmondo-online.de/kulturtermine/open-hertzlab-mars-resour
 ce-management/
SUMMARY:Open Hertzlab: MARS! Resource Management
DESCRIPTION:Das Hertzlab fliegt zum Mars!\nDas Leben in einer geschlossenen
  Umgebung erfordert einen sorgfältigen Umgang mit Ressourcen\, denn sowoh
 l Luft als auch Wasser sind kostbar. Schließt euch den Mitgliedern der Re
 d Dust Society\, der Künstlerin Katherine Ball und der lokalen Initiative
  „Urbane Gärten Karlsruhe“ an\, um beim Aufbau eines industriellen Wa
 sserrecyclingsystems mit Wasserpflanzen\, Sand und Pilzen mitzuhelfen.\n\n
 Ihr seid her(t)zlich eingeladen. Kommt einfach vorbei!\n\nTreffpunkt: Lich
 thof 8\, 1. OG\, Zugang über den Musikbalkon im Foyer\n\nBildcredit: ZKM 
 | Zentrum für Kunst und Medien Karlsruhe
ATTACH;FMTTYPE=image/jpeg:https://www.arsmondo-online.de/wp-content/upload
 s/2026/04/0-Indoor-Greywater-System-lr_840-2.jpg
CATEGORIES:Crossover
LOCATION:ZKM | Zentrum für Kunst und Medien\, Lorenzstraße 19\, Karlsruhe
 \, Baden-Württemberg\, 76135\, Mittlerer Oberrhein\, Deutschland
X-APPLE-STRUCTURED-LOCATION;VALUE=URI;X-ADDRESS=Lorenzstraße 19\, Karlsruh
 e\, Baden-Württemberg\, 76135\, Mittlerer Oberrhein\, Deutschland;X-APPLE
 -RADIUS=100;X-TITLE=ZKM | Zentrum für Kunst und Medien:geo:0,0
END:VEVENT
BEGIN:VTIMEZONE
TZID:Europe/Berlin
X-LIC-LOCATION:Europe/Berlin
BEGIN:DAYLIGHT
DTSTART:20260329T030000
TZOFFSETFROM:+0100
TZOFFSETTO:+0200
TZNAME:CEST
END:DAYLIGHT
END:VTIMEZONE
END:VCALENDAR