BEGIN:VCALENDAR
VERSION:2.0
PRODID:-//wp-events-plugin.com//7.2.3.1//EN
TZID:Europe/Berlin
X-WR-TIMEZONE:Europe/Berlin
BEGIN:VEVENT
UID:16608@arsmondo-online.de
DTSTART;TZID=Europe/Berlin:20260530T090000
DTEND;TZID=Europe/Berlin:20260530T200000
DTSTAMP:20251126T131415Z
URL:https://www.arsmondo-online.de/kulturtermine/orgelexkursion-orgeln-des
 -elsass/
SUMMARY:Orgelexkursion - Orgeln des Elsass
DESCRIPTION:Die Orgelexkursion dieser Saison geht ins malerische Elsass!\n
  \nWir besuchen zwei herausragende Instrumente europäischer Orgelbaukuns
 t: Die prachtvolle Orgel (1882) von Joseph Merklin (1819–1905) in der Ki
 rche Saints Pierre et Paul in Obernai beeindruckt mit ihrer romantischen K
 langfülle\, symphonischen Disposition und fein abgestimmten Farben – ei
 n typisches Meisterwerk des französischen Orgelbaus des 19. Jahrhunderts.
  In Ebersmünster erwartet Sie die Orgel (1732) von Gottfried Silbermann (
 1683–1753) in der Abteikirche St. Mauritius. Sie zeichnet sich besonders
  durch ihre klare Intonation\, brillante Prinzipale und authentische franz
 ösisch-barocke Klangsprache aus. Aber nicht nur ihr Klang ist hervorzuheb
 en: da sie seit ihrer Erbauung nur geringfügig restauriert wurde\, ist si
 e eine der seltenen Orgeln\, die sich in einem außergewöhnlich guten Ori
 ginalzustand befinden.\n\nje Orgelführung auf der Empore und Konzerte mi
 t Werken von de Grigny\, Couperin\, Franck und Vierne\n\nDr. Paul Tarling 
 | Orgel\nJörg Halubek | Orgel\n\nGemeinsame Busfahrt ab Stuttgart möglic
 h:\n \nStuttgart\, Busparkplatz\nBreitscheidstraße/Kienestraße bei Lied
 erhalle\nAbfahrt ca. 9.00\nRückkehr ca. 20.00\n \nInfos unter: https:/
 /www.ilgustobarocco.de/event/orgelexkursion-ebersmuenster/\nTickets unter:
  https://il-gusto-barocco.reservix.de/p/reservix/event/2445366\nBild: ©L
 uis Vidal
ATTACH;FMTTYPE=image/jpeg:https://www.arsmondo-online.de/wp-content/upload
 s/2025/11/Luis-Vidal-Orgel-700x700-1.jpg
CATEGORIES:Konzert
LOCATION:Elsass\, Rue du Gén Leclerc\, Ebersmunster\, Elsass\,  67600\, Gr
 and Est\, Frankreich
X-APPLE-STRUCTURED-LOCATION;VALUE=URI;X-ADDRESS=Rue du Gén Leclerc\, Ebers
 munster\, Elsass\,  67600\, Grand Est\, Frankreich;X-APPLE-RADIUS=100;X-TI
 TLE=Elsass:geo:0,0
END:VEVENT
BEGIN:VTIMEZONE
TZID:Europe/Berlin
X-LIC-LOCATION:Europe/Berlin
BEGIN:DAYLIGHT
DTSTART:20260329T030000
TZOFFSETFROM:+0100
TZOFFSETTO:+0200
TZNAME:CEST
END:DAYLIGHT
END:VTIMEZONE
END:VCALENDAR