BEGIN:VCALENDAR
VERSION:2.0
PRODID:-//wp-events-plugin.com//7.2.3.1//EN
TZID:Europe/Berlin
X-WR-TIMEZONE:Europe/Berlin
BEGIN:VEVENT
UID:18210@arsmondo-online.de
DTSTART;TZID=Europe/Berlin:20260517T000000
DTEND;TZID=Europe/Berlin:20260517T000000
DTSTAMP:20260414T114918Z
URL:https://www.arsmondo-online.de/kulturtermine/pippo-pollina-quartetto-a
 custico/
SUMMARY:Pippo Pollina & Quartetto Acustico
DESCRIPTION:„La vita è bella così com’è - das Leben ist schön so wi
 e es ist.“ Mit diesem optimistischen Credo gibt uns Pippo Pollina in die
 ser Saison im Burghof die Ehre. Längst gilt er als einer der kreativsten 
 Künstler der europäischen Singer-Songwriter-Szene. Seit mehr als dreißi
 g Jahren ist er unterwegs\, hat unzählige Platten veröffentlicht\, inter
 nationale Tourneen gespielt und mit renommierten Musiker:innen zusammengea
 rbeitet. Diesen besonderen Status hat er sich durch Kontinuität und Engag
 ement sowohl im Studio als auch auf der Bühne erarbeitet. Über seinen Au
 ftritt beim STIMMEN-Festival 2024 schrieb die Badische Zeitung: „Seine S
 ongs zeichnen sich durch schöne Melodien und viel Gefühl aus\, oft sind 
 sie melancholisch grundiert und doch von mediterraner Leichtigkeit.“ Nun
  stellt er mit der Cellistin Cecile Grüebler\, der Pianistin Elisa Sandri
 ni und dem Klarinettisten Roberto Petroli sein neues Projekt mit kammermus
 ikalischem Charakter vor.\nSO | 17.05.26 | 20 Uhr\nwww.burghof.com\n\nFoto
 : Pippo Pollina Quartetto Acustico (c)Filip@derkonzertfotograf
ATTACH;FMTTYPE=image/jpeg:https://www.arsmondo-online.de/wp-content/upload
 s/2026/04/Pippo-Pollina_Quartetto-Acustico_c_Filip@derkonzertfotograf.jpg
CATEGORIES:Crossover,Konzert
LOCATION:Burghof Lörrach\, Herrenstr. 5\, Lörrach\, Baden Württemberg\, 
 79539\, Hochrhein-Bodensee\, Deutschland
X-APPLE-STRUCTURED-LOCATION;VALUE=URI;X-ADDRESS=Herrenstr. 5\, Lörrach\, B
 aden Württemberg\, 79539\, Hochrhein-Bodensee\, Deutschland;X-APPLE-RADIU
 S=100;X-TITLE=Burghof Lörrach:geo:0,0
END:VEVENT
BEGIN:VTIMEZONE
TZID:Europe/Berlin
X-LIC-LOCATION:Europe/Berlin
BEGIN:DAYLIGHT
DTSTART:20260329T030000
TZOFFSETFROM:+0100
TZOFFSETTO:+0200
TZNAME:CEST
END:DAYLIGHT
END:VTIMEZONE
END:VCALENDAR