BEGIN:VCALENDAR
VERSION:2.0
PRODID:-//wp-events-plugin.com//7.2.3.1//EN
TZID:Europe/Berlin
X-WR-TIMEZONE:Europe/Berlin
BEGIN:VEVENT
UID:17711@arsmondo-online.de
DTSTART;TZID=Europe/Berlin:20260920T180000
DTEND;TZID=Europe/Berlin:20260920T194500
DTSTAMP:20260307T171336Z
URL:https://www.arsmondo-online.de/kulturtermine/poiesis-quartet-preistrae
 gerkonzert/
SUMMARY:Poiesis Quartet - Preisträgerkonzert
DESCRIPTION:Many Many Cadences – »viele\, viele Kadenzen« lautet der Ti
 tel eines Werks der Komponistin und Installationskünstlerin Sky Macklay u
 nd gleichsam das Motto des Preisträgerkonzerts des USamerikanischen Poies
 is Quartets im Laienrefektorium. Als kleinste harmonische Einheit im tonal
 en Gerüst einer Komposition ist die Kadenz zugleich der Dreh- und Angelpu
 nkt jeglicher tonalen Entwicklung.\nIn Sergei Prokofjews 1. Streichquartet
 t op. 50 ist sie für die formale und emotionale Struktur der Komposition 
 verantwortlich\, etwa durch die ständige Reibung und Auflösung von harmo
 nischen Spannungsakkorden. In Maurice Ravels Streichquartett op. 35 wieder
 um ist die Kadenz das organisch und klanglich fein geformte Bindeglied zwi
 schen den musikalischen Ideen der Komposition.\nGanz neue Perspektiven wir
 ft das 2025 beim Internationalen Streichquartett-Wettbewerb im kanadischen
  Banff mit dem Grand Prize ausgezeichnete Ensemble mit einer Auftragskompo
 sition von Jeff Scott auf die Kadenz und macht sie zum Ausgangspunkt für 
 die Suche nach\n(musikalischer) Identität.\n\nBild: Eden Davis
ATTACH;FMTTYPE=image/jpeg:https://www.arsmondo-online.de/wp-content/upload
 s/2026/03/Poiesis-Quartet-02-PC-Eden-Davis_komprimiert.jpg
CATEGORIES:Konzert
LOCATION:Laienrefektorium\, Klosterhof\, Maulbronn\, Baden-Württemberg\, 7
 5433\, Enzkreis\, Deutschland
X-APPLE-STRUCTURED-LOCATION;VALUE=URI;X-ADDRESS=Klosterhof\, Maulbronn\, Ba
 den-Württemberg\, 75433\, Enzkreis\, Deutschland;X-APPLE-RADIUS=100;X-TIT
 LE=Laienrefektorium:geo:0,0
END:VEVENT
BEGIN:VTIMEZONE
TZID:Europe/Berlin
X-LIC-LOCATION:Europe/Berlin
BEGIN:DAYLIGHT
DTSTART:20260329T030000
TZOFFSETFROM:+0100
TZOFFSETTO:+0200
TZNAME:CEST
END:DAYLIGHT
END:VTIMEZONE
END:VCALENDAR