BEGIN:VCALENDAR
VERSION:2.0
PRODID:-//wp-events-plugin.com//7.2.3.1//EN
TZID:Europe/Berlin
X-WR-TIMEZONE:Europe/Berlin
BEGIN:VEVENT
UID:18203@arsmondo-online.de
DTSTART;TZID=Europe/Berlin:20260626T200000
DTEND;TZID=Europe/Berlin:20260626T220000
DTSTAMP:20260413T143012Z
URL:https://www.arsmondo-online.de/kulturtermine/rocklounge-mit-dem-signum
 -quartett-rottweil-musikfestival-sommersprossen/
SUMMARY:ROCKLOUNGE mit dem Signum Quartett - Rottweil Musikfestival Sommers
 prossen
DESCRIPTION:ROCKLOUNGE\nMit dem Signum Quartett\n\nPräludium der Städtisc
 hen Musikschule: Violine/Viola\, Klasse Sándor Varga\n\nDie Berührungspu
 nkte zwischen Rockmusik und Klassischer Musik auszuloten ist hier Programm
 :\nDie Musiker\, die mit Beethoven\, Mozart\, Strawinsky und Schostakowits
 ch und gleichzeitig den Beatles\, Queen\, Led Zeppelin und Radiohead aufge
 wachsen sind\, prägt eine Liebe für beide Seiten. Die Idee\, diese beid
 en Welten in einem Programm zu vereinen\, ist damit eine organische\, fast
  natürliche Erweiterung ihres Repertoires.\nDie Bar bleibt geöffnet…\n
 \nSignum Quartett:\nFlorian Donderer Violine\nAnnette Walther Violine\nXan
 di van Dijk Viola\nThomas Schmitz Violoncello
ATTACH;FMTTYPE=image/jpeg:https://www.arsmondo-online.de/wp-content/upload
 s/2026/04/sospro_Logo_quadrat_700x700-3.jpg
CATEGORIES:Konzert
LOCATION:Badhaus Rottweil\, Neckartal 167\, Rottweil\, Baden-Württemberg\,
  78628\, Deutschland
X-APPLE-STRUCTURED-LOCATION;VALUE=URI;X-ADDRESS=Neckartal 167\, Rottweil\, 
 Baden-Württemberg\, 78628\, Deutschland;X-APPLE-RADIUS=100;X-TITLE=Badhau
 s Rottweil:geo:0,0
END:VEVENT
BEGIN:VTIMEZONE
TZID:Europe/Berlin
X-LIC-LOCATION:Europe/Berlin
BEGIN:DAYLIGHT
DTSTART:20260329T030000
TZOFFSETFROM:+0100
TZOFFSETTO:+0200
TZNAME:CEST
END:DAYLIGHT
END:VTIMEZONE
END:VCALENDAR