BEGIN:VCALENDAR
VERSION:2.0
PRODID:-//wp-events-plugin.com//7.2.3.1//EN
TZID:Europe/Berlin
X-WR-TIMEZONE:Europe/Berlin
BEGIN:VEVENT
UID:14047@arsmondo-online.de
DTSTART;TZID=Europe/Berlin:20260614T170000
DTEND;TZID=Europe/Berlin:20260614T190000
DTSTAMP:20250910T134947Z
URL:https://www.arsmondo-online.de/kulturtermine/rossini-petite-messe-sole
 nnelle/
SUMMARY:Rossini "Petite Messe Solennelle"
DESCRIPTION:Aus dem Namen „Kleine Festmesse“ – bei einer Spieldauer v
 on immerhin 85 Minuten – spricht ein Charakterzug Rossinis: die Fähigke
 it zur Selbstironie\, in die sich Bescheidenheit und Koketterie mischen. 
 „Lieber Gott“\, so schrieb er aufs Manuskript\, „ist es wirklich hei
 lige Musik (musique sacrée) oder doch verfluchte Musik (sacrée musique)?
  Ich bin für die Opera buffa geboren. Ein bisschen Können\, ein bisschen
  Herz\, das ist alles. Sei also gepriesen und gewähre mir das Paradies!
 “ Rossinis tiefe Religiosität ist bei aller süffsanten Untertreibung s
 pürbar. Er\, der als Schöpfer von 39 Opern berühmt wurde und vergleichs
 weise wenige geistliche Kompositionen\ngeschaffen hat\, musste sich aber 
 – bei aller Euphorie\, die diese hervorriefen – auch der alten Streitf
 rage stellen\, wie „opernhaft“ ein sakrales Werk ausfallen dürfe.\nDi
 e Fassung für Chor\, Solisten und Tasteninstrumente von 1863\, die in der
  Stadtkirche zu hören sein wird\, ist die ursprüngliche und entspricht R
 ossinis eigentlicher Intention. Eine Orchesterfassung schuf Rossini erst d
 rei Jahre später – weniger aus Überzeugung\, sondern vielmehr\, um ver
 zerrenden Orchestrierungen anderer Komponisten vorzubeugen.\n\nBlanca-Esth
 er Moreno\, Sopran\; Barbara Hesse-Bachmaier\, Alt\;\nKlemens Mölkner\, T
 enor\; Wojciech Latocha\, Bass\nKantorei St. Peter Zürich\nPatricia Ott\,
  Klavier\; Otmar Bayer\, Harmonium\nPhilipp Mestrinel\, Leitung\nGioacchin
 o Rossini (1792-1868): Petite Messe solennelle\n\nFoto: © Tobias Ackerman
 n
ATTACH;FMTTYPE=image/jpeg:https://www.arsmondo-online.de/wp-content/upload
 s/2025/09/22-StadtDS2019-235-14.07.2025-Groeger-Julia-8_450x450.jpg
CATEGORIES:Konzert
LOCATION:Stadtkirche St. Johann\, Karlstraße 71\, Donaueschingen\, Baden-W
 ürttemberg\, 78166\, Schwarzwald-Baar-Heuberg\, Deutschland
X-APPLE-STRUCTURED-LOCATION;VALUE=URI;X-ADDRESS=Karlstraße 71\, Donaueschi
 ngen\, Baden-Württemberg\, 78166\, Schwarzwald-Baar-Heuberg\, Deutschland
 ;X-APPLE-RADIUS=100;X-TITLE=Stadtkirche St. Johann:geo:0,0
END:VEVENT
BEGIN:VTIMEZONE
TZID:Europe/Berlin
X-LIC-LOCATION:Europe/Berlin
BEGIN:DAYLIGHT
DTSTART:20260329T030000
TZOFFSETFROM:+0100
TZOFFSETTO:+0200
TZNAME:CEST
END:DAYLIGHT
END:VTIMEZONE
END:VCALENDAR