BEGIN:VCALENDAR
VERSION:2.0
PRODID:-//wp-events-plugin.com//7.2.3.1//EN
TZID:Europe/Berlin
X-WR-TIMEZONE:Europe/Berlin
BEGIN:VEVENT
UID:15525@arsmondo-online.de
DTSTART;TZID=Europe/Berlin:20260222T150000
DTEND;TZID=Europe/Berlin:20260628T160000
DTSTAMP:20260225T183528Z
URL:https://www.arsmondo-online.de/kulturtermine/schlafen-fische/
SUMMARY:Schlafen Fische?
DESCRIPTION: von Jens Raschke \n\nJette ist gerade zehn geworden. Ihr Papa 
 sagt\, das nennt man zweistellig. Es gibt Leute\, die werden sogar dreiste
 llig. Einhundert Jahre. Und noch mehr! Jettes Bruder Emil ist nur sechs ge
 worden. Das ist bloß einstellig. Emil war ihr kleiner Bruder. Er war sein
  ganzes Leben lang krank. Vor einem Jahr ist er gestorben. Manchmal geht J
 ette auf den Friedhof und erinnert sich an Emil\, an sein Lachen\, seine T
 räume und wie sie auf der Beerdigung seinen Sarg bunt angemalt haben.\nSi
 e fragt sich: »Warum müssen Menschen sterben? Was kommt nach dem Tod? Ge
 ht es Emil jetzt besser?« All das hat sie auch ihren Vater gefragt. Aber 
 der weiß auf viele Fragen auch keine Antwort. Das hat Jette längst gemer
 kt. Als sie in einem Urlaub in Dänemark zusammen einen Staudamm gebaut ha
 ben\, fragte sie\, ob die Fische hinter der kleinen Staumauer nicht nach H
 ause müssen zum Schlafen? Schlafen Fische überhaupt? Wusste\nder Vater n
 icht. Auch nicht\, ob Blindschleichen niesen. Die schwarzen Wolken\, die s
 ich nach dem Tod ihres Bruders in Jette ausgebreitet haben\, werden jetzt\
 , ein Jahr später\, langsam heller. Ob sie eines Tages richtig weiß werd
 en? Keine Ahnung! Aber vielleicht müssen sie das ja gar nicht.\n\nDer Tod
  wird im Kindertheater häufig thematisiert: »Aber selten so einfühlsam\
 , wie es Jens Raschke gelingt«\, würdigt Paul Maar. Raschke hat ein undo
 gmatisches\, zuweilen sehr heiteres und manchmal auch trauriges Einpersone
 nstück über eines der letzten Tabuthemen unserer Zeit geschrieben. Ein S
 tück über den Umgang mit den kleinen\, großen und letzten Fragen des Le
 bens.\n\nWir freuen uns sehr\, die Thementage zu »Schlafen Fische?« in K
 ooperation mit dem Kinder- und Jugendhospizdienst Heilbronn der Malteser e
 .V. sowie dem Verein »Lichtblick-TAK« durchführen zu können.\n\nMit fr
 eundlicher Unterstützung der Kreissparkasse Heilbronn\n\n&nbsp\;\n\nFoto:
  Jochen Klenk
ATTACH;FMTTYPE=image/jpeg:https://www.arsmondo-online.de/wp-content/upload
 s/2025/10/Schlafen-Fische.jpg
CATEGORIES:Theater
LOCATION:Theater Heilbronn\, BOXX\, Berliner Platz 1\, Heilbronn\, Baden-W
 ürttemberg\, 74072 \, Heilbronn-Franken\, Deutschland
X-APPLE-STRUCTURED-LOCATION;VALUE=URI;X-ADDRESS=Berliner Platz 1\, Heilbron
 n\, Baden-Württemberg\, 74072 \, Heilbronn-Franken\, Deutschland;X-APPLE-
 RADIUS=100;X-TITLE=Theater Heilbronn\, BOXX:geo:0,0
END:VEVENT
BEGIN:VTIMEZONE
TZID:Europe/Berlin
X-LIC-LOCATION:Europe/Berlin
BEGIN:STANDARD
DTSTART:20251026T020000
TZOFFSETFROM:+0200
TZOFFSETTO:+0100
TZNAME:CET
END:STANDARD
BEGIN:DAYLIGHT
DTSTART:20260329T030000
TZOFFSETFROM:+0100
TZOFFSETTO:+0200
TZNAME:CEST
END:DAYLIGHT
END:VTIMEZONE
END:VCALENDAR