BEGIN:VCALENDAR
VERSION:2.0
PRODID:-//wp-events-plugin.com//7.2.3.1//EN
TZID:Europe/Berlin
X-WR-TIMEZONE:Europe/Berlin
BEGIN:VEVENT
UID:17305@arsmondo-online.de
DTSTART;TZID=Europe/Berlin:20260319T200000
DTEND;TZID=Europe/Berlin:20260319T220000
DTSTAMP:20260209T212049Z
URL:https://www.arsmondo-online.de/kulturtermine/schwanensee-16/
SUMMARY:Schwanensee
DESCRIPTION:Ein Märchen für die ganze Familie: Der Schwanensee ist seit s
 einer Uraufführung 1877 in Moskau zweifellos das bekannteste Handlungsbal
 lett zu Musik von Pjotr Iljitsch Tschaikowsky. Der Zauberer Rotbart und de
 r schwarze Schwan drohen Prinz Siegfried und der in einen Schwan verzauber
 ten Prinzessin Odette\, deren Erlösung und somit die Erfüllung ihrer auf
 keimenden Liebe zu verhindern. Das Publikum ist eingeladen\, in die Geschi
 chte einzutauchen: Die Hofgesellschaft versammelt sich auf dem Schloss und
  feiert ein rauschendes Fest zur anstehenden Wahl der zukünftigen Braut d
 es Prinzens. Gläser klirren\, die Musik schwillt an. Tschaikowskys Meiste
 rwerk\, live gespielt von der Badischen Philharmonie Pforzheim\, schwingt 
 sich empor und lässt den nahenden Morgen vergessen…\n\nMarius Petipa\, 
 George Balanchine\, John Cranko\, Rudolf Nurejew\, John Neumeier – die L
 iste der Choreographen\, die mit ihren Interpretationen des Stoffes Geschi
 chte schrieben\, liest sich wie das Who-is Who der Ballettwelt. Welches de
 r möglichen Enden – tragisch\, glücklich\, unglücklich? – wird dies
 e Inszenierung nehmen? Das Ballett Theater Pforzheim zeigt mit seiner eige
 nen Choreographie einen zeitgenössischen Schwanensee – und doch einen z
 eitlosen Klassiker für alle Generationen.\n\nFoto © Andrea D'Aquino
ATTACH;FMTTYPE=image/jpeg:https://www.arsmondo-online.de/wp-content/upload
 s/2026/02/THPF_Schwanensee_Bild2_Besse_Scarella_Foto_AndreaDAquino.jpg
CATEGORIES:Tanz
LOCATION:Bürgerzentrum Waiblingen\, An der Talaue 4\, Waiblingen\, Baden-W
 ürttemberg\, 71334\, Stuttgart\, Deutschland
X-APPLE-STRUCTURED-LOCATION;VALUE=URI;X-ADDRESS=An der Talaue 4\, Waiblinge
 n\, Baden-Württemberg\, 71334\, Stuttgart\, Deutschland;X-APPLE-RADIUS=10
 0;X-TITLE=Bürgerzentrum Waiblingen:geo:0,0
END:VEVENT
BEGIN:VTIMEZONE
TZID:Europe/Berlin
X-LIC-LOCATION:Europe/Berlin
BEGIN:STANDARD
DTSTART:20251026T020000
TZOFFSETFROM:+0200
TZOFFSETTO:+0100
TZNAME:CET
END:STANDARD
END:VTIMEZONE
END:VCALENDAR