BEGIN:VCALENDAR
VERSION:2.0
PRODID:-//wp-events-plugin.com//7.2.3.1//EN
TZID:Europe/Berlin
X-WR-TIMEZONE:Europe/Berlin
BEGIN:VEVENT
UID:12867@arsmondo-online.de
DTSTART;TZID=Europe/Berlin:20251009T180000
DTEND;TZID=Europe/Berlin:20251009T180000
DTSTAMP:20250725T215139Z
URL:https://www.arsmondo-online.de/kulturtermine/schweizer-buchpreis-die-s
 hortlist/
SUMMARY:Schweizer Buchpreis - Die Shortlist!
DESCRIPTION:Lesungen\, Gespräche &amp\; Apéro mit den Nominierten der Sho
 rtlist\n\nZwar werden erst am 11. September die Namen der ausgewählten Au
 tor:innen veröffentlicht\, aber ein Datum dürfen Sie sich schon jetzt fe
 st in Ihren Kalender eintragen: Am 9. Oktober lernen Sie im Speed-Dating m
 it Apéro die Nominierten für den Schweizer Buchpreis auf der Bühne des 
 Literaturhauses Stuttgart kennen. Die Jury des Schweizer Buchpreises hat 2
 025 rund 80 deutschsprachige erzählerische oder essayistische Werke zu le
 sen und wird im September die fünf Nominierten bekanntgeben. Der Verein L
 iteratur Basel und der Schweizer Buchhandels- und Verlagsverband SBVV verg
 eben am 16. November zum achtzehnten Mal den Schweizer Buchpreis in Basel.
  Zuvor sind die Autor:innen auf verschiedenen Literaturhausbühnen zu Gast
 \; so führt die Lesereise die Nominierten von Oktober bis zum 16. Novembe
 r durch Deutschland\, Österreich und die Schweiz.\n\nIn Zusammenarbeit mi
 t dem Schweizer Buchpreis und dem Schweizerischen Generalkonsulat Stuttgar
 t\n\nEintritt: 14 / 12  / 7\,-€\n\nFoto: Schweizer Buchpreis
ATTACH;FMTTYPE=image/jpeg:https://www.arsmondo-online.de/wp-content/upload
 s/2025/07/Schweizer_Buchpreis.jpg
CATEGORIES:Literatur und Wort
LOCATION:Literaturhaus Stuttgart\, Breitscheidstraße 4\, Stuttgart\, Baden
 -Württemberg\, 70174 \, Stuttgart\, Deutschland
X-APPLE-STRUCTURED-LOCATION;VALUE=URI;X-ADDRESS=Breitscheidstraße 4\, Stut
 tgart\, Baden-Württemberg\, 70174 \, Stuttgart\, Deutschland;X-APPLE-RADI
 US=100;X-TITLE=Literaturhaus Stuttgart:geo:0,0
END:VEVENT
BEGIN:VTIMEZONE
TZID:Europe/Berlin
X-LIC-LOCATION:Europe/Berlin
BEGIN:DAYLIGHT
DTSTART:20250330T030000
TZOFFSETFROM:+0100
TZOFFSETTO:+0200
TZNAME:CEST
END:DAYLIGHT
END:VTIMEZONE
END:VCALENDAR