BEGIN:VCALENDAR
VERSION:2.0
PRODID:-//wp-events-plugin.com//7.2.3.1//EN
TZID:Europe/Berlin
X-WR-TIMEZONE:Europe/Berlin
BEGIN:VEVENT
UID:6591@arsmondo-online.de
DTSTART;TZID=Europe/Berlin:20250520T150000
DTEND;TZID=Europe/Berlin:20250520T150000
DTSTAMP:20240520T182829Z
URL:https://www.arsmondo-online.de/kulturtermine/seelenbalsam-ein-konzert-
 fuer-menschen-mit-und-ohne-demenz-2/
SUMMARY:Seelenbalsam - Ein Konzert für Menschen mit und ohne Demenz
DESCRIPTION:Es spielt das WPR-Blechbläserquartett
CATEGORIES:Konzert
LOCATION:Studio der Württembergischen Philharmonie Reutlingen\, Marie-Curi
 e-Straße\, Reutlingen\, Baden-Württemberg\, 72760\, Neckar-Alb\, Deutsch
 land
X-APPLE-STRUCTURED-LOCATION;VALUE=URI;X-ADDRESS=Marie-Curie-Straße\, Reutl
 ingen\, Baden-Württemberg\, 72760\, Neckar-Alb\, Deutschland;X-APPLE-RADI
 US=100;X-TITLE=Studio der Württembergischen Philharmonie Reutlingen:geo:0
 ,0
END:VEVENT
BEGIN:VTIMEZONE
TZID:Europe/Berlin
X-LIC-LOCATION:Europe/Berlin
BEGIN:DAYLIGHT
DTSTART:20250330T030000
TZOFFSETFROM:+0100
TZOFFSETTO:+0200
TZNAME:CEST
END:DAYLIGHT
END:VTIMEZONE
END:VCALENDAR