BEGIN:VCALENDAR
VERSION:2.0
PRODID:-//wp-events-plugin.com//7.2.3.1//EN
TZID:Europe/Berlin
X-WR-TIMEZONE:Europe/Berlin
BEGIN:VEVENT
UID:17403@arsmondo-online.de
DTSTART;TZID=Europe/Berlin:20260502T000000
DTEND;TZID=Europe/Berlin:20260502T000000
DTSTAMP:20260219T100602Z
URL:https://www.arsmondo-online.de/kulturtermine/sinfonische-intensitaet/
SUMMARY:Sinfonische Intensität
DESCRIPTION:Ludwig van Beethoven: Konzert für Klavier und Orchester Nr. 3
   op. 37\nJohannes Brahms: Sinfonie Nr. 1 in c-Moll. Luzerner Sinfonieorc
 hester\, Bruce Liu\, Klavier\, David Afkham\, Dirigent\n\n02. Mai 2026\n17
 .00 Uhr im Carmen Würth Forum\, Künzelsau\nKarten und weitere Info: kuns
 tkultur.wuerth.com
CATEGORIES:Konzert
LOCATION:Carmen Würth Forum\, Am Forumsplatz 1\, Künzelsau\, Baden-Württ
 emberg\, 74653 \, Heilbronn-Franken\, Deutschland
X-APPLE-STRUCTURED-LOCATION;VALUE=URI;X-ADDRESS=Am Forumsplatz 1\, Künzels
 au\, Baden-Württemberg\, 74653 \, Heilbronn-Franken\, Deutschland;X-APPLE
 -RADIUS=100;X-TITLE=Carmen Würth Forum:geo:0,0
END:VEVENT
BEGIN:VTIMEZONE
TZID:Europe/Berlin
X-LIC-LOCATION:Europe/Berlin
BEGIN:DAYLIGHT
DTSTART:20260329T030000
TZOFFSETFROM:+0100
TZOFFSETTO:+0200
TZNAME:CEST
END:DAYLIGHT
END:VTIMEZONE
END:VCALENDAR