BEGIN:VCALENDAR
VERSION:2.0
PRODID:-//wp-events-plugin.com//7.2.3.1//EN
TZID:Europe/Berlin
X-WR-TIMEZONE:Europe/Berlin
BEGIN:VEVENT
UID:15533@arsmondo-online.de
DTSTART;TZID=Europe/Berlin:20260412T150000
DTEND;TZID=Europe/Berlin:20260725T163000
DTSTAMP:20251019T222652Z
URL:https://www.arsmondo-online.de/kulturtermine/siri-und-die-eismeerpirat
 en/
SUMMARY:Siri und die Eismeerpiraten
DESCRIPTION: von Frida Nilsson\nDeutsch von Friederike Buchinger | Bühnenf
 assung von Karin Drechsel \n\n\nSiri lebt mit ihrem alten Vater und der j
 üngeren Schwester Miki auf einer Insel im Eismeer. Das Leben ist hart\, s
 ie angeln und sammeln Beeren\, um satt zu werden. Eines Tages lässt Siri 
 ihre kleine Schwester beim Beerensammeln allein und kann nur noch aus der 
 Ferne beobachten\, wie die Mannschaft des gefährlichen Piraten Weißhaupt
  die kleine Miki entführt. Alle fürchten Weißhaupt\, den gefährlichste
 n Mann des Eismeeres. Jeder weiß\, dass er kleine Kinder im Bergwerk für
  sich schuften lässt\, um immer reicher zu werden. Keiner wagt es\, sich 
 ihm in den Weg zu stellen. Siri fühlt sich schuldig an der Entführung ih
 rer Schwester. Deshalb macht sie sich ganz allein auf den Weg\, um Miki zu
  befreien. Sie heuert auf der »Sturmvogel« an. Der Schiffskoch Frederik 
 wird ihr Freund\, aber der Kapitän meint es nicht gut mit ihr und setzt s
 ie aus. Doch Siri gibt nicht auf. Unbeirrt setzt sie ihre Suche fort. Sie 
 trifft auf eine Jägerin von Eiswölfen und den Jungen Einar\, dessen Mutt
 er die stärkste Frau auf den Eismeerinseln ist\, und auf zwielichtige See
 männer. Mit Mut\, Durchhaltevermögen und praktischem Verstand findet sie
  schließlich den Rückzugsort des Piraten. Wird es ihr gelingen\, seinem 
 Treiben ein Ende zu bereiten?\n\nDie vielfach preisgekrönte schwedische A
 utorin Frida Nilsson erzählt mit »Siri und die Eismeerpiraten« ein atem
 beraubend spannendes Abenteuer über Freundschaft und Mut. Auf kindgerecht
 e Weise untersucht sie darin ganz nebenbei auch existentielle Themen wie: 
 Darf man Tiere und Menschen für seine Zwecke ausbeuten? Wie stellt man si
 ch seiner Angst? Und hinterlässt nicht alles\, was man tut\, seine Spuren
 ?\n\n\n&nbsp\;
CATEGORIES:Theater
LOCATION:Theater Heilbronn\, BOXX\, Berliner Platz 1\, Heilbronn\, Baden-W
 ürttemberg\, 74072 \, Heilbronn-Franken\, Deutschland
X-APPLE-STRUCTURED-LOCATION;VALUE=URI;X-ADDRESS=Berliner Platz 1\, Heilbron
 n\, Baden-Württemberg\, 74072 \, Heilbronn-Franken\, Deutschland;X-APPLE-
 RADIUS=100;X-TITLE=Theater Heilbronn\, BOXX:geo:0,0
END:VEVENT
BEGIN:VTIMEZONE
TZID:Europe/Berlin
X-LIC-LOCATION:Europe/Berlin
BEGIN:DAYLIGHT
DTSTART:20260329T030000
TZOFFSETFROM:+0100
TZOFFSETTO:+0200
TZNAME:CEST
END:DAYLIGHT
END:VTIMEZONE
END:VCALENDAR