BEGIN:VCALENDAR
VERSION:2.0
PRODID:-//wp-events-plugin.com//7.2.3.1//EN
TZID:Europe/Berlin
X-WR-TIMEZONE:Europe/Berlin
BEGIN:VEVENT
UID:18207@arsmondo-online.de
DTSTART;TZID=Europe/Berlin:20260507T000000
DTEND;TZID=Europe/Berlin:20260507T000000
DTSTAMP:20260414T111349Z
URL:https://www.arsmondo-online.de/kulturtermine/souad-massi/
SUMMARY:Souad Massi
DESCRIPTION:Freiheit und Gerechtigkeit\, Songs voller Liebe\, Humanismus un
 d Auflehnung gegen Intoleranz: Souad Massi steht wie kaum eine andere Kün
 stlerin für Musik mit Haltung. In ihrer über 20-jährigen Karriere brach
 te sie nicht nur einen neuen Sound in die algerische Musik\, sondern auch 
 eine klare Botschaft. Oft als „Tracy Chapman des Maghreb“ bezeichnet\,
  verbindet sie filigranes Gitarrenspiel mit Texten über Emanzipation\, Ge
 rechtigkeit und Mitgefühl.\n1972 in Algier geboren\, wuchs Souad Massi mi
 t Chaabi und kabylischen Liedern auf\, studierte klassische und arabisch-a
 ndalusische Musik und fand ihren Stil zwischen Folk\, Rock und Chanson. Si
 e singt auf Arabisch\, Französisch und Kabylisch\, in feinen Miniaturen\,
  in denen Sanftheit und Schwere aufeinandertreffen. Mit ihrem neuen Album 
 „Zagate“ kehrt sie intensiver und direkter zurück als je zuvor. Souad
  Massi macht aus Poesie einen Akt des Widerstands und schafft einen Dialog
  zwischen Intimität und Politik – als freie\, wahrhaftige Stimme des Ma
 ghreb.\nInfo und Karten: www.burghof.com\n\nFoto: Souad Massi (c) Yann Orh
 an
ATTACH;FMTTYPE=image/jpeg:https://www.arsmondo-online.de/wp-content/upload
 s/2026/04/Souad-Massi_c_Yann-Orhan.jpg
CATEGORIES:Crossover,Konzert
LOCATION:Burghof Lörrach\, Herrenstr. 5\, Lörrach\, Baden Württemberg\, 
 79539\, Hochrhein-Bodensee\, Deutschland
X-APPLE-STRUCTURED-LOCATION;VALUE=URI;X-ADDRESS=Herrenstr. 5\, Lörrach\, B
 aden Württemberg\, 79539\, Hochrhein-Bodensee\, Deutschland;X-APPLE-RADIU
 S=100;X-TITLE=Burghof Lörrach:geo:0,0
END:VEVENT
BEGIN:VTIMEZONE
TZID:Europe/Berlin
X-LIC-LOCATION:Europe/Berlin
BEGIN:DAYLIGHT
DTSTART:20260329T030000
TZOFFSETFROM:+0100
TZOFFSETTO:+0200
TZNAME:CEST
END:DAYLIGHT
END:VTIMEZONE
END:VCALENDAR