BEGIN:VCALENDAR
VERSION:2.0
PRODID:-//wp-events-plugin.com//7.2.3.1//EN
TZID:Europe/Berlin
X-WR-TIMEZONE:Europe/Berlin
BEGIN:VEVENT
UID:18343@arsmondo-online.de
DTSTART;TZID=Europe/Berlin:20270522T110000
DTEND;TZID=Europe/Berlin:20270522T180000
DTSTAMP:20260420T164232Z
URL:https://www.arsmondo-online.de/kulturtermine/stadt-land-sehnsucht-idyl
 lische-ansichten-in-kunst-und-alltagskultur-aus-dem-suedwesten-2026-05-16-
 2026-05-23-2026-05-30-2026-06-06-2026-06-13-2026-06-20-2026-06-27-2026-07-
 04-2026-07-11-15-2027-05-22/
SUMMARY:Stadt – Land – Sehnsucht. Idyllische Ansichten in Kunst und All
 tagskultur aus dem Südwesten
DESCRIPTION:Ausstellung vom 09.05.2026 bis zum 26.09.2027. \n\nWas macht e
 in Bild zur Heimat? Und wann wird aus einer Landschaft ein Sehnsuchtsort?\
 n\nDie Ausstellung zeigt\, wie Stadt und Landschaft im 20. Jahrhundert dar
 gestellt und zugleich idealisiert wurden. Im Fokus stehen Motive aus dem S
 üdwesten\, die zwischen genauer Beobachtung und geprägten Bildvorstellun
 gen stehen. Dabei geht es nicht nur um Kunst\, sondern auch um Alltagskult
 ur und die Frage\, wie sich bestimmte Bilder im kollektiven Gedächtnis ve
 rankern.\n\nIn den drei Bereichen Stadt\, Landschaft und Sehnsuchtsorte tr
 eten Kunstwerke in einen direkten Austausch mit Objekten des Alltags. Porz
 ellan\, Keramik\, Postkarten und Tourismusplakate greifen bekannte Motive 
 auf und verbreiten sie weit über ihren ursprünglichen Kontext hinaus. So
  entstehen vertraute Bilder vom Schwarzwald\, der Schwäbischen Alb und an
 deren Regionen Baden Württembergs.\nZugleich versammelt die Ausstellung w
 ichtige Positionen der südwestdeutschen Landschaftsmalerei vom späten 19
 . bis ins 20. Jahrhundert. Künstler wie Gustav Schönleber\, Christian La
 ndenberger\, Otto Reiniger und Hermann Pleuer prägten mit ihrem Blick fü
 r Licht und Atmosphäre das Bild der Region. Im frühen 20. Jahrhundert f
 ühren Erwin Starker und Maria Caspar Filser diese Entwicklung fort. Ein b
 islang nicht öffentlich gezeigtes Frühwerk von Oskar Schlemmer bietet ei
 nen besonderen Einblick. Spätere Positionen wie Manfred Henninger und Ric
 hard Kiwit erweitern die Perspektive auf Stadt und Landschaft.\n\nWerke au
 s den Sammlungen des Museums im Kleihues Bau und der Kulturgeschichtlichen
  Sammlung werden durch Leihgaben aus baden württembergischen Museen und P
 rivatsammlungen ergänzt.\n\nInteraktive Angebote wie ein Baden Württembe
 rg Memory\, eine Waldlounge mit Hörstation und eine Kreativstation für P
 ostkarten laden dazu ein\, die Themen der Ausstellung auf eigene Weise zu 
 entdecken.\n\nMit Werken von\nMaria Caspar Filser\, Johann Dannenmann\, Os
 kar Frey\, Manfred Henninger\, Otto Hofer Bach\, Lothar Hörer\, Albert Ka
 ppis\, Richard Kiwit\, Christian Landenberger\, Alfred Lehmann\, Bernhard 
 Pankok\, Jakob Plankenhorn\, Hermann Pleuer\, Robert Poetzelberger\, Otto 
 Reiniger\, Alois Schenk\, Oskar Schlemmer\, Gustav Schönleber\, Erwin Sta
 rker\, Walter Strich Chapell\, Adalbert Sutor\, Hermann Umgelter\, Roland 
 Wesner und weitere\n\n&nbsp\;\n\nVernissage am 8. Mai 2026 um 19:00 Uhr im
  Museum im Kleihues-Bau.\n\n&nbsp\;\n\nBildnachweis:\n\nGeteilte Ansicht: 
 links historische Plastiskope (Souvenirartikel aus Baden-Württemberg\, 19
 50–1970)\, Kulturgeschichtliche Sammlung\; rechts: Otto Hofer-Bach\, Sta
 dtpark Kornwestheim\, o. J.\, Tempera auf Papier\, 28\,5 × 41\,4 cm. Foto
 : Stadt Kornwestheim.
ATTACH;FMTTYPE=image/jpeg:https://www.arsmondo-online.de/wp-content/upload
 s/2026/04/SLS_Keyvisual_600x300.jpg
CATEGORIES:Kunst
LOCATION:Museum im Kleihues-Bau\, Stuttgarter Straße 93\, Kornwestheim\, B
 aden-Württemberg\, 70806\, Stuttgart\, Deutschland
X-APPLE-STRUCTURED-LOCATION;VALUE=URI;X-ADDRESS=Stuttgarter Straße 93\, Ko
 rnwestheim\, Baden-Württemberg\, 70806\, Stuttgart\, Deutschland;X-APPLE-
 RADIUS=100;X-TITLE=Museum im Kleihues-Bau:geo:0,0
END:VEVENT
BEGIN:VTIMEZONE
TZID:Europe/Berlin
X-LIC-LOCATION:Europe/Berlin
BEGIN:DAYLIGHT
DTSTART:20270328T030000
TZOFFSETFROM:+0100
TZOFFSETTO:+0200
TZNAME:CEST
END:DAYLIGHT
END:VTIMEZONE
END:VCALENDAR