BEGIN:VCALENDAR
VERSION:2.0
PRODID:-//wp-events-plugin.com//7.2.3.1//EN
TZID:Europe/Berlin
X-WR-TIMEZONE:Europe/Berlin
BEGIN:VEVENT
UID:18248@arsmondo-online.de
DTSTART;TZID=Europe/Berlin:20260606T190000
DTEND;TZID=Europe/Berlin:20260606T213000
DTSTAMP:20260420T144135Z
URL:https://www.arsmondo-online.de/kulturtermine/station-paradiso-6/
SUMMARY:Station Paradiso
DESCRIPTION:\nEine Mixtape-Oper über die Sehnsucht nach Zuhause von Sara G
 lojnarić\nLibretto von Tanja Šljivar\n\nMusikalische Leitung: Peter Rund
 el\nRegie: Anika Rutkofsky\n\n\nEine Tonbandkassette\, ein Busfahrer und e
 ine Gruppe Reisender voll Erinnerungen sind die Zutaten für eine neue Ope
 r von Sara\nGlojnarić und Tanja Šljivar. Auf einem Roadtrip durch Südos
 teuropa bis Neapel spüren sie den unterschiedlichen Ideen und Träumen vo
 n Heimat nach und entwickeln aus den Klängen der Erinnerungen ein Songboo
 k für Stuttgart.\n\nKompositionsauftrag der Staatsoper Stuttgart\, ermög
 licht von der\nErnst von Siemens-Stiftung
CATEGORIES:Oper und Musiktheater
LOCATION:Staatstheater Stuttgart\, Opernhaus\, Oberer Schloßgarten 6\, Stu
 ttgart\, Baden-Württemberg\, 70173 \, Stuttgart\, Deutschland
X-APPLE-STRUCTURED-LOCATION;VALUE=URI;X-ADDRESS=Oberer Schloßgarten 6\, St
 uttgart\, Baden-Württemberg\, 70173 \, Stuttgart\, Deutschland;X-APPLE-RA
 DIUS=100;X-TITLE=Staatstheater Stuttgart\, Opernhaus:geo:0,0
END:VEVENT
BEGIN:VTIMEZONE
TZID:Europe/Berlin
X-LIC-LOCATION:Europe/Berlin
BEGIN:DAYLIGHT
DTSTART:20260329T030000
TZOFFSETFROM:+0100
TZOFFSETTO:+0200
TZNAME:CEST
END:DAYLIGHT
END:VTIMEZONE
END:VCALENDAR