BEGIN:VCALENDAR
VERSION:2.0
PRODID:-//wp-events-plugin.com//7.2.3.1//EN
TZID:Europe/Berlin
X-WR-TIMEZONE:Europe/Berlin
BEGIN:VEVENT
UID:18267@arsmondo-online.de
DTSTART;TZID=Europe/Berlin:20260812T000000
DTEND;TZID=Europe/Berlin:20260812T000000
DTSTAMP:20260420T144458Z
URL:https://www.arsmondo-online.de/kulturtermine/studioausstellung-bernhar
 d-obst-the-sky-is-open-2026-08-12/
SUMMARY:Studioausstellung: Bernhard Obst - The sky is open
DESCRIPTION:Ausstellung vom 09.05.2026 bis zum 06.01.2027. \n\nDer früh v
 erstorbene Künstler Bernhard Obst (1956 in Ludwigsburg – 2014 in Bietig
 heim-Bissingen) ist wohl nur Kennern der regionalen Kunstszene ein Begriff
 . Er studierte an der Akademie der Bildenden Künste in Stuttgart\, doch s
 tellte nur selten aus. Dabei schuf Bernhard Obst umfangreiche Serien mit s
 ymbolischen Inhalten\, darunter Kompositionen mit Stoffen und Tüchern\, d
 ie ein Ver- und Enthüllen suggerieren. Neben der Öl- und Acrylmalerei ga
 lt sein besonderes Augenmerk der Zeichnung: Mit Bleistift oder Tusche übe
 rzog er großformatige Papiere mit unzähligen Strichen und feinen Schraff
 uren und schuf so außergewöhnliche Stillleben oder surreale Figurenszene
 n. Unter dem Motto »The sky is open« gestaltete er eine ganze Reihe phan
 tastischer Landschaften. Anlässlich seines 70. Geburtstags zeigt die Stä
 dtische Galerie mit Gemälden\, Zeichnungen und Linolschnitten aus dem Nac
 hlass des Künstlers einen repräsentativen Querschnitt seines eindrucksvo
 llen Schaffens – eine Entdeckung!\n\n&nbsp\;\n\nWir laden herzlich ein z
 ur Eröffnung\n\nam Freitag\, 8. Mai\, 19 Uhr\n\nmit Oberbürgermeister J
 ürgen Kessing\n\nund Dr. Petra Lanfermann\n\n \n\nBegleitprogramm\n\n&nb
 sp\;\n\nAfter-Work-Kurzführungen mit Apéritif\n\nFreitag\, 12. Juni\, 16
 .30 Uhr\n\nMittwoch\, 5. August\, 16.30 Uhr\n\nDonnerstag\, 17. September\
 , 17 Uhr\n\nDonnerstag\, 29. Oktober\, 17 Uhr\n\nMittwoch\, 30. Dezember\,
  16.30 Uhr\n\n&nbsp\;\n\nDer persönliche Blick\n\nKuratorinnenführung mi
 t Familie Obst\n\nDonnerstag\, 2. Juli\, 16.30 Uhr\n\nFreitag\, 13. Novemb
 er\, 16.30 Uhr\n\n&nbsp\;\n\nFamilien-Fun-Freitage\n\nKombination aus Füh
 rung und Kreativ-Workshop für Groß und Klein\n\nFreitag\, 21. August und
  23. Oktober\, jeweils 15 Uhr\n\n \n\nUnser umfangreiches Workshop-Progra
 mm für Kinder und Jugendliche entnehmen Sie bitte dem gesonderten Flyer o
 der unserer Website.\n\n&nbsp\;\n\nBegrenzte Teilnehmerzahl! Anmeldung emp
 fohlen per Telefon oder E-Mail!\n\n&nbsp\;\n\nÖffnungszeiten\n\nMi–Fr 1
 4–18 Uhr\n\nSa\, So 11–18 Uhr\n\nalle Feiertage 11–18 Uhr\n\nnur 24.
 \, 25. und 31.12. geschlossen\n\n&nbsp\;\n\nEintritt frei\n\nAfter-Work-F
 ührungen: 4 € inkl. Getränk\n\nKuratorinnenführung 5 €\n\nFamilien-
 Fun-Freitag: 10 € pro Familie\n\n&nbsp\;\n\nDie Städtische Galerie ist 
 inklusive Sanitäranlage barrierefrei.\n\n&nbsp\;\n\nStädtische Galerie B
 ietigheim-Bissingen\n\nHauptstraße 60–64\n\n74321 Bietigheim-Bissingen\
 n\nTelefon 07142 74-483\n\ngalerie@bietigheim-bissingen.de\n\nhttp://galer
 ie.bietigheim-bissingen.de\n\n&nbsp\;\n\n&nbsp\;
ATTACH;FMTTYPE=image/jpeg:https://www.arsmondo-online.de/wp-content/upload
 s/2026/03/zeitraum2.jpg
CATEGORIES:Kunst
LOCATION:Städtische Galerie Bietigheim-Bissingen\, Hauptstr.60-64\, Bietig
 heim-Bissingen\, Baden-Württemberg\, 74321\, Stuttgart\, Deutschland
X-APPLE-STRUCTURED-LOCATION;VALUE=URI;X-ADDRESS=Hauptstr.60-64\, Bietigheim
 -Bissingen\, Baden-Württemberg\, 74321\, Stuttgart\, Deutschland;X-APPLE-
 RADIUS=100;X-TITLE=Städtische Galerie Bietigheim-Bissingen:geo:0,0
END:VEVENT
BEGIN:VTIMEZONE
TZID:Europe/Berlin
X-LIC-LOCATION:Europe/Berlin
BEGIN:DAYLIGHT
DTSTART:20260329T030000
TZOFFSETFROM:+0100
TZOFFSETTO:+0200
TZNAME:CEST
END:DAYLIGHT
END:VTIMEZONE
END:VCALENDAR