BEGIN:VCALENDAR
VERSION:2.0
PRODID:-//wp-events-plugin.com//7.2.3.1//EN
TZID:Europe/Berlin
X-WR-TIMEZONE:Europe/Berlin
BEGIN:VEVENT
UID:17719@arsmondo-online.de
DTSTART;TZID=Europe/Berlin:20260425T220000
DTEND;TZID=Europe/Berlin:20260426T010000
DTSTAMP:20260403T142837Z
URL:https://www.arsmondo-online.de/kulturtermine/stueckemarkt-party-3/
SUMMARY:Stückemarkt-Party
DESCRIPTION:\nmit Pär Hagström and Charlatans of Love und Byusa (DJ) / pr
 äsentiert von zwinger x\n\n\nHeidelberger Stückemarkt\n\n\nzwinger x\nAl
 ter Saal\n\n\n\n\nWir tanzen uns warm für die Festivalwoche!\nDer schwedi
 sche Psychedelic-Rock-Musiker und Gospelprediger Pär Hagström – in He
 idelberg schon zu hören mit seinem Soundtrack für »Der zerbrochne Krug
 « – stellt im Alten Saal zusammen mit seiner Band Charlatans of Love i
 hr neues Album vor: Inspiriert von Tom Waits\, Led Zeppelin\, Mavis Sta
 ples und den Blind Boys of Alabama treffen hier Gospel\, Soul\, Psychedel
 ic Rock und Funk aufeinander.\nIm Anschluss gibt es Amapiano-\, Afrohouse
 - und Disco-Beats von Byusa!\nEigentlich ist Friedrich Byusa Blam selbstst
 ändiger Soundkünstler und Musikproduzent für das Theater\, für Musiker
 *innen oder für Hörspiel- und Filmproduktionen\, aber auch als DJ aktiv:
  begonnen mit Disco-\, House- und Techno-Veranstaltungen entdeckte er wäh
 rend eines Aufenthalts in Ostafrika die elektronische Afro-Clubmusik-Szene
  für sich und bringt nun den pulsierenden Sound von Amapiano\, Afro House
  bis Gqom in die Region.\n\n\n\n\n\n\n\n\n\n
CATEGORIES:Crossover
LOCATION:Theater und Orchester Heidelberg\, Theaterstraße 10\, Heidelberg\
 , Baden-Württemberg\, 69117\, Rhein-Neckar\, Deutschland
X-APPLE-STRUCTURED-LOCATION;VALUE=URI;X-ADDRESS=Theaterstraße 10\, Heidelb
 erg\, Baden-Württemberg\, 69117\, Rhein-Neckar\, Deutschland;X-APPLE-RADI
 US=100;X-TITLE=Theater und Orchester Heidelberg:geo:0,0
END:VEVENT
BEGIN:VTIMEZONE
TZID:Europe/Berlin
X-LIC-LOCATION:Europe/Berlin
BEGIN:DAYLIGHT
DTSTART:20260329T030000
TZOFFSETFROM:+0100
TZOFFSETTO:+0200
TZNAME:CEST
END:DAYLIGHT
END:VTIMEZONE
END:VCALENDAR