BEGIN:VCALENDAR
VERSION:2.0
PRODID:-//wp-events-plugin.com//7.2.3.1//EN
TZID:Europe/Berlin
X-WR-TIMEZONE:Europe/Berlin
BEGIN:VEVENT
UID:18104@arsmondo-online.de
DTSTART;TZID=Europe/Berlin:20260426T150000
DTEND;TZID=Europe/Berlin:20260426T150000
DTSTAMP:20260409T154146Z
URL:https://www.arsmondo-online.de/kulturtermine/tag-der-streuobstwiese-20
 26/
SUMMARY:Tag der Streuobstwiese 2026
DESCRIPTION:Ganz Europa feiert den Tag der Streuobstwiese am Freitag\, den 
 24. April 2026 und dem anschließenden Wochenende. Der Mitmach- und Erlebn
 istag\, an dem verschiedenste Aktionen rund um das immaterielle Kulturerbe
  „Streuobstanbau“ stattfinden\, steht unter dem Motto „Gutes aus Str
 euobst“. Aus diesem Anlass laden der Kunstbus e.V. und das ZKM | Karlsru
 he Sie am Sonntag\, den 26. April 2026\, herzlich ein\, diesen Tag mit uns
  zu feiern. \n\nAb 15 Uhr findet auf der Katzenwedelwiese in Beiertheim-B
 ulach ein Picknick statt\, zu dem jede und jeder eine Picknickdecke und et
 was zu Essen und zu Trinken mitbringen kann. Gleichzeitig findet ein Upcyc
 ling und Insektenhotel Workshop für kleine Naturforscher:innen statt: Gem
 einsam mit dem Kunstbus bauen wir aus Dosen und Bambus ein Insektenhotel. 
 Mit Fantasie und Naturmaterialien gestalten wir so kleine Rückzugsorte f
 ür Bienen\, Käfer und andere Insekten. An den Workshops können Kinder a
 b 5 Jahren teilnehmen.\n\nDie Fachberatung für Obst- und Gartenbau des Li
 egenschaftsamtes Karlsruhe ergänzt das Aktionsangebot mit einer Literatur
 - und Leseecke zum Thema Streuobst.\n\nWorkshops: \nUpcycling und Insekte
 nhotels\n\nBildcredit: Felix Grünschloß
ATTACH;FMTTYPE=image/jpeg:https://www.arsmondo-online.de/wp-content/upload
 s/2026/04/K3A7226-3.jpg
CATEGORIES:Crossover
LOCATION:ZKM | Zentrum für Kunst und Medien\, Lorenzstraße 19\, Karlsruhe
 \, Baden-Württemberg\, 76135\, Mittlerer Oberrhein\, Deutschland
X-APPLE-STRUCTURED-LOCATION;VALUE=URI;X-ADDRESS=Lorenzstraße 19\, Karlsruh
 e\, Baden-Württemberg\, 76135\, Mittlerer Oberrhein\, Deutschland;X-APPLE
 -RADIUS=100;X-TITLE=ZKM | Zentrum für Kunst und Medien:geo:0,0
END:VEVENT
BEGIN:VTIMEZONE
TZID:Europe/Berlin
X-LIC-LOCATION:Europe/Berlin
BEGIN:DAYLIGHT
DTSTART:20260329T030000
TZOFFSETFROM:+0100
TZOFFSETTO:+0200
TZNAME:CEST
END:DAYLIGHT
END:VTIMEZONE
END:VCALENDAR