BEGIN:VCALENDAR
VERSION:2.0
PRODID:-//wp-events-plugin.com//7.2.3.1//EN
TZID:Europe/Berlin
X-WR-TIMEZONE:Europe/Berlin
BEGIN:VEVENT
UID:18099@arsmondo-online.de
DTSTART;TZID=Europe/Berlin:20260522T193000
DTEND;TZID=Europe/Berlin:20260522T210000
DTSTAMP:20260409T154537Z
URL:https://www.arsmondo-online.de/kulturtermine/tanzgastspiel-combat-des-
 lianes/
SUMMARY:Tanzgastspiel: Combat des lianes
DESCRIPTION:Combat des lianes bedeutet übersetzt „Kampf der Lianen“. L
 ianen sind Pflanzen\, die an Bäumen hinaufklettern und nach dem Licht jag
 en. Kreuz und quer schlängeln sie sich durch den Regenwald. Nichts kann s
 ie aufhalten. Für seine Choreografie hat sich Zora Snake von den mächtig
 en Lianen der Wälder Kameruns inspirieren lassen. Wie die Lianen im Wald 
 wächst und windet sich dieses Tanzstück über die Bühne. Es kämpft an 
 gegen die Ungerechtigkeiten unserer modernen kapitalistischen Welt\, gegen
  die Ausbeutung der Natur und die Auslöschung von Lebenswelten. Musik und
  Bewegung verschmelzen zu einem kraftvollen Ausdruck gegen Unterdrückung 
 und Zerstörung – laut und unaufhaltsam. Die Körper der Tänzer*innen w
 erden zum Sprachrohr für Solidarität und Erneuerung. Bewegungen aus Hip-
 Hop\, zeitgenössischem Tanz und traditionellen kamerunischen Tänzen verb
 inden sich zu einem kollektiven Ritual. Ein Abend voller Kraft und Poesie\
 , der die Bühne in einen Ort der Begegnung verwandelt.\n\n&nbsp\;\nTanz-P
 erformance von Zora Snake. Einführung 30 Minuten vor Vorstellungsbeginn. 
 Im Anschluss Artist Talk und Krach &amp\; Wonne. Eine Produktion von T
 héâtre National Wallonie-Bruxelles. In Koproduktion mit Charleroi Danse\
 , Riksteatern Stockholm\, South North Foundation\, Julidans Amsterdam\, On
 e Dance Festival Plovdiv\, Theater Freiburg\, Manège Maubeuge u. a. Mit U
 nterstützung des Institut Français Kamerun.
CATEGORIES:Tanz
LOCATION:Theater Freiburg Großes Haus\, Bertoldstr. 46\, Freiburg\, Baden-
 Württemberg\, 79098\, Südlicher Oberrhein\, Deutschland
X-APPLE-STRUCTURED-LOCATION;VALUE=URI;X-ADDRESS=Bertoldstr. 46\, Freiburg\,
  Baden-Württemberg\, 79098\, Südlicher Oberrhein\, Deutschland;X-APPLE-R
 ADIUS=100;X-TITLE=Theater Freiburg Großes Haus:geo:0,0
END:VEVENT
BEGIN:VTIMEZONE
TZID:Europe/Berlin
X-LIC-LOCATION:Europe/Berlin
BEGIN:DAYLIGHT
DTSTART:20260329T030000
TZOFFSETFROM:+0100
TZOFFSETTO:+0200
TZNAME:CEST
END:DAYLIGHT
END:VTIMEZONE
END:VCALENDAR