BEGIN:VCALENDAR
VERSION:2.0
PRODID:-//wp-events-plugin.com//7.2.3.1//EN
TZID:Europe/Berlin
X-WR-TIMEZONE:Europe/Berlin
BEGIN:VEVENT
UID:17731@arsmondo-online.de
DTSTART;TZID=Europe/Berlin:20260425T193000
DTEND;TZID=Europe/Berlin:20260425T203000
DTSTAMP:20260307T170404Z
URL:https://www.arsmondo-online.de/kulturtermine/tanzgastspiel-focus/
SUMMARY:Tanzgastspiel: Focus
DESCRIPTION:In Focus bringt der Choreograf Étienne Rochefort fünf junge S
 treetdancer aus Straßburg mit zwei Mitgliedern seiner Tanzcompany 1 des S
 i zusammen. Zu mitreißenden Beats treten sie tänzerisch gegeneinander an
 \, finden sich immer wieder in großen Gruppenformationen zusammen. Gemein
 sam zeigen sie\, wie unterschiedlich Urban Dance sein kann – von Hip-Hop
  über Krump bis Breakdance\, von House über Popping bis Voguing ist hier
  alles dabei. Urban Dance steht dabei für so viel mehr als nur für den T
 anz. Er ist Ausdruck von Vielfalt\, Freiheit und grenzenloser Kreativität
 . So unterschiedlich wie die Stile des Urban Dance sind dabei die Geschich
 ten der Tänzer*innen. Über die Bewegung erzählen sie von ihren ganz per
 sönlichen Wegen\, Entdeckungen und Kämpfen. Sie nutzen den Tanz\, um Fra
 gen zu Identität\, Kultur und Gemeinschaft zu stellen. In Focus wird die 
 Bühne zu einer großen Hip-Hop-Party für Publikum und Tänzer*innen.\nTa
 nz-Performance von Étienne Rochefort. Einführung 30 Minuten vor Vorstell
 ungsbeginn. Im Anschluss Artist Talk und Krach &amp\; Wonne.. Eine Produk
 tion von Cie 1 des Si und POLE-SUD Strasbourg.
CATEGORIES:Tanz
LOCATION:Theater Freiburg Großes Haus\, Bertoldstr. 46\, Freiburg\, Baden-
 Württemberg\, 79098\, Südlicher Oberrhein\, Deutschland
X-APPLE-STRUCTURED-LOCATION;VALUE=URI;X-ADDRESS=Bertoldstr. 46\, Freiburg\,
  Baden-Württemberg\, 79098\, Südlicher Oberrhein\, Deutschland;X-APPLE-R
 ADIUS=100;X-TITLE=Theater Freiburg Großes Haus:geo:0,0
END:VEVENT
BEGIN:VTIMEZONE
TZID:Europe/Berlin
X-LIC-LOCATION:Europe/Berlin
BEGIN:DAYLIGHT
DTSTART:20260329T030000
TZOFFSETFROM:+0100
TZOFFSETTO:+0200
TZNAME:CEST
END:DAYLIGHT
END:VTIMEZONE
END:VCALENDAR