BEGIN:VCALENDAR
VERSION:2.0
PRODID:-//wp-events-plugin.com//7.2.3.1//EN
TZID:Europe/Berlin
X-WR-TIMEZONE:Europe/Berlin
BEGIN:VEVENT
UID:15513@arsmondo-online.de
DTSTART;TZID=Europe/Berlin:20260627T193000
DTEND;TZID=Europe/Berlin:20260627T211500
DTSTAMP:20251019T223000Z
URL:https://www.arsmondo-online.de/kulturtermine/the-whole-truth-about-lie
 s/
SUMMARY:The whole Truth about Lies
DESCRIPTION: von Nico and the Navigators\nEinmaliges Gastspiel \n\n\nVorab:
  »Dieser Satz ist falsch!« Denn wer die ganze Wahrheit über Lügen such
 t\, wird im Paradoxon fündig – oder im Theater\, wo die erhoffte Erkenn
 tnis auf einer verabredeten Täuschung basiert.\n\nEinen »rauschhaft-ekle
 ktischen Musiktheater-Abend mit großer kultur-historischer Brennweite\, a
 ber immer auch auf die Gegenwart bezogen« nannte die Berliner Morgenpost 
 diese Produktion. Von den »dunklen Tiefen des klassischen Erbes und der g
 litzernden Oberfläche aktueller Musik« schrieb Klassik Heute und vom »M
 eisterspiel der Sinne« Faust Kultur. In diesem bildstarken Musiktheaterab
 end gilt das Interesse u. a. der stärksten Waffe populistischer Politiker
 Innen: der Lüge. Wie effektiv sich dieses uralte Mittel zur Macht einsetz
 en lässt\, hat zuletzt die Präsidentschaftswahl in den USA gezeigt\, in 
 der ein schamloser Lügner triumphierte. Aber auch andernorts erstarken re
 chtsnationale Kräfte oft mit dem gezielten Einsatz von Unwahrheiten\, Des
 information und Fake News. Selbst sicher geglaubte demokratische Bündniss
 e und Abkommen erscheinen mit Blick auf die aktuelle Weltlage alles andere
  als verlässlich.\n\nIn dieser Arbeit wird die Bühne in einen Lügendete
 ktor verwandelt. Optisch wird die Wahrnehmung durch die Verbindung von alt
 en Theaterillusionen und neuen KI-Technologien auf die Probe gestellt. Hie
 r überrascht die Illusion selbst dann\, wenn man bei ihrer Verfertigung z
 usehen und die Funktionsweise im halbtransparenten Spiegelkabinett des Bü
 hnenraumes buchstäblich durchschauen darf. Welch eine Dynamik ein stabile
 r Trick in Verbindung mit fortschreitender Technologie entwickeln kann\, v
 ersetzte allerdings selbst die Urheber dieser Versuchsanordnung bei den Pr
 oben in Erstaunen: Die digital veränderten Figuren werden von analogen Fl
 ächen reflektiert\, das Bild überlagert den Gegenstand … ach\, das mus
 s man selber sehen!\n\nDie Inszenierung erzählt von Selbsttäuschung und 
 Fremdbestimmung\, von falschen Versprechen und entlarvenden Gesten. Es geh
 t – mal augenzwinkernd\, mal nüchtern – um die Wahrheit als abstrakte
  Größe\, die im Privaten wie im Politischen existenzielle Wirkung entfal
 ten und ungeahnte Katastrophen herbeiführen kann. Dabei verschwimmen die 
 Grenzen zwischen echten Körpern und falschen Bildern ebenso wie zwischen 
 den Genres – zwischen Barock und Pop\, zwischen Gesang\, Tanz und Text. 
 Während Rossinis »La callunia« als meteorologische Umschreibung einer v
 on fern heraufziehenden Verleumdung unmissverständlich sein dürfte\, ist
  die Puppen-Arie der Olympia aus »Hoffmanns Erzählungen « eher eine Vor
 ahnung heutiger Trugwelten\, in denen künstliche Kreaturen von echten Gef
 ühlen singen. Aber auch Fleetwood Macs »Tell Me Lies« oder John Lennons
  »Give Me Some Truth« erzählen von den Hürden\, die es im Dschungel de
 r Lügen zu überwinden gilt.\n\n\nFoto: Oliver Proske
ATTACH;FMTTYPE=image/jpeg:https://www.arsmondo-online.de/wp-content/upload
 s/2025/10/The-Whole-Truth-about-Lies.jpg
CATEGORIES:Oper und Musiktheater
LOCATION:Theater Heilbronn\, Berliner Platz 1\, 74072 Heilbronn\, Deutschla
 nd
X-APPLE-STRUCTURED-LOCATION;VALUE=URI;X-ADDRESS=Berliner Platz 1\, 74072 He
 ilbronn\, Deutschland;X-APPLE-RADIUS=100;X-TITLE=Theater Heilbronn:geo:0,0
END:VEVENT
BEGIN:VTIMEZONE
TZID:Europe/Berlin
X-LIC-LOCATION:Europe/Berlin
BEGIN:DAYLIGHT
DTSTART:20260329T030000
TZOFFSETFROM:+0100
TZOFFSETTO:+0200
TZNAME:CEST
END:DAYLIGHT
END:VTIMEZONE
END:VCALENDAR