BEGIN:VCALENDAR
VERSION:2.0
PRODID:-//wp-events-plugin.com//7.2.3.1//EN
TZID:Europe/Berlin
X-WR-TIMEZONE:Europe/Berlin
BEGIN:VEVENT
UID:18193@arsmondo-online.de
DTSTART;TZID=Europe/Berlin:20260704T180000
DTEND;TZID=Europe/Berlin:20260704T185000
DTSTAMP:20260413T143140Z
URL:https://www.arsmondo-online.de/kulturtermine/theatertour-durch-100-jah
 re-heidelberger-schlossfestspiele-2/
SUMMARY:Theatertour durch 100 Jahre Heidelberger Schlossfestspiele
DESCRIPTION:Eine Führung durch 100 Jahre Heidelberger Festspielgeschichte 
 mit theatralen Highlights\n\n\nHeidelberger Schlossfestspiele\n\n\nTreffpu
 nkt: vor dem Ruprechtsbau\n\n\n\n\nDie Schlossfestspiele werden 100 Jahre 
 alt. Das ist ein Anlass zum Feiern! Ensemblemitglieder aller Sparten nehme
 n Sie mit auf eine Reise durch die Zeit und zu Orten des Heidelberger Schl
 osses\, die bei den regulären Schlossvorstellungen nicht zu sehen sind.\n
 Die Schlossführer*innen bringen Ihnen auf dieser Tour die Geschichte der 
 Heidelberger Schlossfestspiele näher\, flankiert von verschiedenen künst
 lerischen Beiträgen von Musiktheater\, Schauspiel und Tanz. So erklingt 
 »The Student Prince« neben vertanzten Instrumentalklängen von Ernst Kre
 nek\, zudem gibt es Texte vom »Sommernachtstraum« bis zu politischen Bra
 ndbriefen aus den 1930er-Jahren zu hören. Die Führung endet nach ca. 50 
 Minuten in der Ausstellung im Ottheinrichsbau\, wo Sie Gelegenheit haben\,
  noch tiefer in die Historie einzusteigen.\nBitte kommen Sie rechtzeitig z
 um ausgeschilderten Treffpunkt im Eingangsbereich des Schlosshofs.\nDie F
 ührung ist aufgrund der baulichen Gegebenheiten des Heidelberger Schlosse
 s leider nicht barrierefrei und beinhaltet Treppenaufstiege.\n\nInformatio
 nen zur Ausstellung finden Sie hier.\n\n\n\n
CATEGORIES:Theater
LOCATION:Schloss Heidelberg\, Schlosshof 1\, Heidelberg\, Baden-Württember
 g\, 69117 \, Rhein-Neckar\, Deutschland
X-APPLE-STRUCTURED-LOCATION;VALUE=URI;X-ADDRESS=Schlosshof 1\, Heidelberg\,
  Baden-Württemberg\, 69117 \, Rhein-Neckar\, Deutschland;X-APPLE-RADIUS=1
 00;X-TITLE=Schloss Heidelberg:geo:0,0
END:VEVENT
BEGIN:VTIMEZONE
TZID:Europe/Berlin
X-LIC-LOCATION:Europe/Berlin
BEGIN:DAYLIGHT
DTSTART:20260329T030000
TZOFFSETFROM:+0100
TZOFFSETTO:+0200
TZNAME:CEST
END:DAYLIGHT
END:VTIMEZONE
END:VCALENDAR