BEGIN:VCALENDAR
VERSION:2.0
PRODID:-//wp-events-plugin.com//7.2.3.1//EN
TZID:Europe/Berlin
X-WR-TIMEZONE:Europe/Berlin
BEGIN:VEVENT
UID:17691@arsmondo-online.de
DTSTART;TZID=Europe/Berlin:20260517T180000
DTEND;TZID=Europe/Berlin:20260517T191500
DTSTAMP:20260307T170918Z
URL:https://www.arsmondo-online.de/kulturtermine/thorsten-huelsemann-verbi
 ndungen/
SUMMARY:Thorsten Hülsemann - Verbindungen
DESCRIPTION:Seit Oktober 2018 ist Thorsten Hülsemann Kantor an der Kloster
 kirche und Bezirkskantor des Dekanats Mühlacker. Seitdem ist er als Haush
 err an der Grenzing-Orgel jährlich auch in der Orgelreihe der Klosterkonz
 erte zu erleben. Daneben füllen zahlreiche weitere Termine seinen Konzert
 kalender als Organist und Kantor. Anlässlich des kleinen Bach-Jubiläums 
 2025 zum 275. Todestag hat er sich daran gemacht\, das gesamte Bach’sche
  Orgelwerk aufzuführen – ein Projekt\, das noch bis zum 2. Advent diese
 s Jahres fortdauern wird. In seinem diesjährigen Orgelrezital präsentier
 t Thorsten Hülsemann seinem Publikum in der Klosterkirche Werke von Buxte
 hude\, Bach\, Mendelssohn und Reger. Das Programm des Abends wird vom Bezi
 rkskantor neben anderen Werken in der Folgewoche auf CD aufgenommen. Wer a
 lso das Konzert besucht\, kann die Orgel live im Konzert erleben und spät
 er im Jahr die CD als Erinnerung an den Abend erwerben.\n\nBild: Conrad Sc
 hmitz
ATTACH;FMTTYPE=image/jpeg:https://www.arsmondo-online.de/wp-content/upload
 s/2026/03/20201025_Maulbronn_copyrightConradSchmitz_260_komprimiert.jpg
CATEGORIES:Konzert
LOCATION:Klosterkirche\, Klosterhof\, Maulbronn\, Baden-Württemberg\, 7543
 3\, Enzkreis\, Deutschland
X-APPLE-STRUCTURED-LOCATION;VALUE=URI;X-ADDRESS=Klosterhof\, Maulbronn\, Ba
 den-Württemberg\, 75433\, Enzkreis\, Deutschland;X-APPLE-RADIUS=100;X-TIT
 LE=Klosterkirche:geo:0,0
END:VEVENT
BEGIN:VTIMEZONE
TZID:Europe/Berlin
X-LIC-LOCATION:Europe/Berlin
BEGIN:DAYLIGHT
DTSTART:20260329T030000
TZOFFSETFROM:+0100
TZOFFSETTO:+0200
TZNAME:CEST
END:DAYLIGHT
END:VTIMEZONE
END:VCALENDAR