BEGIN:VCALENDAR
VERSION:2.0
PRODID:-//wp-events-plugin.com//7.2.3.1//EN
TZID:Europe/Berlin
X-WR-TIMEZONE:Europe/Berlin
BEGIN:VEVENT
UID:18106@arsmondo-online.de
DTSTART;TZID=Europe/Berlin:20260430T190000
DTEND;TZID=Europe/Berlin:20260430T190000
DTSTAMP:20260409T154207Z
URL:https://www.arsmondo-online.de/kulturtermine/turns-eco-exo-screaming-v
 ibration/
SUMMARY:TURNS ECO/EXO: SCREAMING VIBRATION
DESCRIPTION:SCREAMING VIBRATION bringt zwei herausragende\, internationale
  Stimmen der experimentellen Musik in den Klangdom: Lila-Zoé Krauß (L T
 wills) und Rojin Sharafi. Krauß orientiert sich an Wahnsinnszenen aus O
 pern und verwebt sie in neuen Narrativen über Mental Health in ökologisc
 her Fragilität. Sharafi kombiniert experimentelle Musik mit Noise zu visz
 eralen Sounds\, die von organisch bis mechanisch reicht. Gemeinsam verwand
 eln sie den Raum in eine vibrierende Umgebung zwischen innerer Spannung un
 d kosmischer Weite.\n\nDer neue Zyklus ECO/EXO überführt zentrale Spannu
 ngsfelder der Gegenwart in immersive Klangräume und verbindet ökologisch
 e Fragilität mit spekulativen\, außerirdischen Perspektiven. Beide küns
 tlerischen Positionen nutzen den Raum als aktives kompositorisches Element
  und arbeiten mit vielschichtigen elektroakustischen Verfahren. Das Konzer
 t stellt zwei unterschiedliche Herangehensweisen an Material\, Wahrnehmung
  und Zeit gegenüber. Gemeinsam eröffnen die Werke neue Hörperspektiven 
 zwischen Körper\, Umwelt und Imagination.\n\nBildcredit: Hessam Samavatia
 n / Jaana van Brussel
ATTACH;FMTTYPE=image/jpeg:https://www.arsmondo-online.de/wp-content/upload
 s/2026/04/TURNS-Website2-2.jpg
CATEGORIES:Konzert
LOCATION:ZKM | Zentrum für Kunst und Medien\, Lorenzstraße 19\, Karlsruhe
 \, Baden-Württemberg\, 76135\, Mittlerer Oberrhein\, Deutschland
X-APPLE-STRUCTURED-LOCATION;VALUE=URI;X-ADDRESS=Lorenzstraße 19\, Karlsruh
 e\, Baden-Württemberg\, 76135\, Mittlerer Oberrhein\, Deutschland;X-APPLE
 -RADIUS=100;X-TITLE=ZKM | Zentrum für Kunst und Medien:geo:0,0
END:VEVENT
BEGIN:VTIMEZONE
TZID:Europe/Berlin
X-LIC-LOCATION:Europe/Berlin
BEGIN:DAYLIGHT
DTSTART:20260329T030000
TZOFFSETFROM:+0100
TZOFFSETTO:+0200
TZNAME:CEST
END:DAYLIGHT
END:VTIMEZONE
END:VCALENDAR