BEGIN:VCALENDAR
VERSION:2.0
PRODID:-//wp-events-plugin.com//7.2.3.1//EN
TZID:Europe/Berlin
X-WR-TIMEZONE:Europe/Berlin
BEGIN:VEVENT
UID:18113@arsmondo-online.de
DTSTART;TZID=Europe/Berlin:20260521T190000
DTEND;TZID=Europe/Berlin:20260521T190000
DTSTAMP:20260409T154518Z
URL:https://www.arsmondo-online.de/kulturtermine/turns-eco-exo-wolves-and-
 throats/
SUMMARY:TURNS ECO/EXO: WOLVES AND THROATS
DESCRIPTION:WOLVES AND THROATS versammelt eine der bedeutendsten Vokalistin
 nen unserer Zeit\, Elaine Mitchener (MBE)\, mit Perkussionist und Klangeth
 nograph Pedro Almiro. Mitchener lotet die gesamte Spannweite der Stimme au
 s im dichten Feld elektronischer Klänge. Almiro\, formt aus selbst aufgez
 eichneten Wolfgesängen eine Komposition\, die uns in die Chöre dieser Sp
 ezies eintauchen lässt. Gemeinsam entsteht ein viszerales Ritual über me
 nschliche und nicht-menschliche Stimmbänder\, über Chor\, Kollektiv und 
 das Heulen als Lamento.\n\nDer neue Zyklus ECO/EXO überführt zentrale Sp
 annungsfelder der Gegenwart in immersive Klangräume und verbindet ökolog
 ische Fragilität mit spekulativen\, außerirdischen Perspektiven. Beide k
 ünstlerischen Positionen nutzen den Raum als aktives kompositorisches Ele
 ment und arbeiten mit vielschichtigen elektroakustischen Verfahren. Das Ko
 nzert stellt zwei unterschiedliche Herangehensweisen an Material\, Wahrneh
 mung und Zeit gegenüber. Gemeinsam eröffnen die Werke neue Hörperspekti
 ven zwischen Körper\, Umwelt und Imagination.\n\nBildcredit: KM | Zentrum
  für Kunst und Medien Karlsruhe\, Foto: Micha Reinke
ATTACH;FMTTYPE=image/jpeg:https://www.arsmondo-online.de/wp-content/upload
 s/2026/04/ZKM000253704-2.jpg
CATEGORIES:Konzert
LOCATION:ZKM | Zentrum für Kunst und Medien\, Lorenzstraße 19\, Karlsruhe
 \, Baden-Württemberg\, 76135\, Mittlerer Oberrhein\, Deutschland
X-APPLE-STRUCTURED-LOCATION;VALUE=URI;X-ADDRESS=Lorenzstraße 19\, Karlsruh
 e\, Baden-Württemberg\, 76135\, Mittlerer Oberrhein\, Deutschland;X-APPLE
 -RADIUS=100;X-TITLE=ZKM | Zentrum für Kunst und Medien:geo:0,0
END:VEVENT
BEGIN:VTIMEZONE
TZID:Europe/Berlin
X-LIC-LOCATION:Europe/Berlin
BEGIN:DAYLIGHT
DTSTART:20260329T030000
TZOFFSETFROM:+0100
TZOFFSETTO:+0200
TZNAME:CEST
END:DAYLIGHT
END:VTIMEZONE
END:VCALENDAR