BEGIN:VCALENDAR
VERSION:2.0
PRODID:-//wp-events-plugin.com//7.2.3.1//EN
TZID:Europe/Berlin
X-WR-TIMEZONE:Europe/Berlin
BEGIN:VEVENT
UID:17703@arsmondo-online.de
DTSTART;TZID=Europe/Berlin:20260717T200000
DTEND;TZID=Europe/Berlin:20260717T211500
DTSTAMP:20260307T171132Z
URL:https://www.arsmondo-online.de/kulturtermine/victoria-ulriksen-phaenom
 enal/
SUMMARY:Victoria Ulriksen - Phänomenal
DESCRIPTION:Sie gilt als »norwegisches Orgelphänomen« und das zu Recht: 
 Victoria Ulriksen wird in diesem Jahr gerade einmal 20 Jahre alt und kann 
 auf über 50 Solo Konzerte zurückblicken\, unter anderem an Orgeln der We
 st minster Abbey und der St. Paul’s Cathedral in London\, bei den Salzbu
 rger Festspielen\, in Karlsruhe\, Trier\, Bergamo und der Schweiz – und 
 das allein im letzten Jahr! Bereits im Alter von 12 Jahren erregte sie dur
 ch ihren Auftritt in der norwegischen Talentshow Norske Talenter mit ihrem
  Orgelspiel Aufsehen. Ihr offizielles Debüt gab sie mit 15 Jahren in der 
 Kathedrale von Oslo. In Maulbronn erklingt – abgesehen von der Choral be
  arbeitung An Wasserflüssen Babylon BWV 653b und einer Orgelbearbeitung d
 es Konzerts für vier Cembali BWV 1065 von Johann Sebastian Bach – vorwi
 egend Musik der deutschen und französischen Spätromantik. Begonnen mit d
 em äußerst dramatischen Walkürenritt aus Richard Wagners Oper über das
  Benedictus op. 59/9 von Max Reger bis hin zu Olivier Messiaens Dieu parmi
  nous aus La Nativité du Seigneur und Maurice Duruflés Suite op. 5.\n\nB
 ild: Levent Ultanur
ATTACH;FMTTYPE=image/jpeg:https://www.arsmondo-online.de/wp-content/upload
 s/2026/03/victoria-ulriksen_c_levent-ultanur_komprimiert.jpg
CATEGORIES:Konzert
LOCATION:Klosterkirche\, Klosterhof\, Maulbronn\, Baden-Württemberg\, 7543
 3\, Enzkreis\, Deutschland
X-APPLE-STRUCTURED-LOCATION;VALUE=URI;X-ADDRESS=Klosterhof\, Maulbronn\, Ba
 den-Württemberg\, 75433\, Enzkreis\, Deutschland;X-APPLE-RADIUS=100;X-TIT
 LE=Klosterkirche:geo:0,0
END:VEVENT
BEGIN:VTIMEZONE
TZID:Europe/Berlin
X-LIC-LOCATION:Europe/Berlin
BEGIN:DAYLIGHT
DTSTART:20260329T030000
TZOFFSETFROM:+0100
TZOFFSETTO:+0200
TZNAME:CEST
END:DAYLIGHT
END:VTIMEZONE
END:VCALENDAR