BEGIN:VCALENDAR
VERSION:2.0
PRODID:-//wp-events-plugin.com//7.2.3.1//EN
TZID:Europe/Berlin
X-WR-TIMEZONE:Europe/Berlin
BEGIN:VEVENT
UID:17692@arsmondo-online.de
DTSTART;TZID=Europe/Berlin:20260604T180000
DTEND;TZID=Europe/Berlin:20260604T191500
DTSTAMP:20260307T170919Z
URL:https://www.arsmondo-online.de/kulturtermine/vincent-dubois-traeume-un
 d-legenden/
SUMMARY:Vincent Dubois - Träume und Legenden
DESCRIPTION:Unter dem programmatischen Titel »Träume und Legenden« entfa
 ltet Vincent Dubois an der Grenzing-Orgel ein farbenreiches Panorama roman
 tischer und moderner Orgelkunst. Der Professor an der Hochschule für Musi
 k Saar und einer der Titularorganisten von Notre-Dame de Paris verbindet a
 n diesem Abend Visionäres und Mythisches. Wuchtig eröffnet er den Abend 
 mit Franz Listzs Präludium und Fuge über B-A-C-H. César Francks innige 
 Mystik im Choral E-Dur steht neben den klangmalerischen Fantasiestücken L
 ouis Viernes\, deren schillernde Stimmungsbilder von sanftem Mondschein (C
 lair de Lune) bis zu funkelnden Irrlichtern (Feux follets) reichen. Jehan 
 Alains expressive Première Fantaisie und Olivier Messiaens leuchtende Eng
 elsmusik aus La Nativité du Seigneur öffnen den Raum zu einer überirdis
 chen Klangwelt. Wagners Tristan-Vorspiel leitet über zu Franz Liszts Marc
 hant sur les flots. Mit diesem\, ursprünglich für Klavier geschriebenen\
 , Stück setzte der romantische Komponist seinem Namenspatron Franz von Pa
 ola ein musikalisches Denkmal. Vincent Dubois beschließt damit einen Aben
 d voller Glanz und visionärer Kraft\, an dem er die Grenzing-Orgel virtuo
 s und klanggewaltig mit all ihren Klangfarben präsentieren wird.\n\nBild:
  Klara Beck
ATTACH;FMTTYPE=image/jpeg:https://www.arsmondo-online.de/wp-content/upload
 s/2026/03/image-466x700_c_Klara-Beck.jpg
CATEGORIES:Konzert
LOCATION:Klosterkirche\, Klosterhof\, Maulbronn\, Baden-Württemberg\, 7543
 3\, Enzkreis\, Deutschland
X-APPLE-STRUCTURED-LOCATION;VALUE=URI;X-ADDRESS=Klosterhof\, Maulbronn\, Ba
 den-Württemberg\, 75433\, Enzkreis\, Deutschland;X-APPLE-RADIUS=100;X-TIT
 LE=Klosterkirche:geo:0,0
END:VEVENT
BEGIN:VTIMEZONE
TZID:Europe/Berlin
X-LIC-LOCATION:Europe/Berlin
BEGIN:DAYLIGHT
DTSTART:20260329T030000
TZOFFSETFROM:+0100
TZOFFSETTO:+0200
TZNAME:CEST
END:DAYLIGHT
END:VTIMEZONE
END:VCALENDAR